Workbook

Sheet Read me
A1: Re-costing workbook: supplier price files, margin rules and the simPRO import
A2: Work sample: realistic data, not a past client job. Amounts are in AUD and GST is 10%.
A4: Illustrative sample data for a Melbourne electrical contractor: a 1,400-line simPRO pricebook, three supplier price files dated 1 October 2026, six months of billed lines (April to September 2026) and a September cross-check against Xero bills.
A5: Formulas are live. The proposed sell price is cost divided by one minus the margin, rounded up to the next 5 cents; the route, final sell price, margins, import file, margin impact and cross-check all recalculate from the sheets.
A7: Sheet | B7: What it shows
A8: Summary | B8: Key totals and checks as live formulas, next to the figure printed in the walkthrough.
A9: Pricebook | B9: 1,400 lines. Proposed sell, final sell, margins, route and the margin check are formulas. Group target margins, agreed margins on competitive items and the owner's decisions are inputs.
A10: Approval list | B10: The 279 lines that went to the owner, looked up from the pricebook.
A11: Import file | B11: The 1,383 active lines in the simPRO import (Update Only, matched on part number), looked up from the pricebook.
A12: Billed lines Apr-Sep | B12: 11,000 billed lines. Line amounts, the new unit sell price and the new line total are formulas.
A13: Xero cross-check | B13: 60 September bill lines against the pricebook cost, with the difference and a 1% test.
A14: Supplier file A, B, C | B14: The three supplier price files as received.
A15: Margin by group | B15: Billed, cost and margin before and after, by group.
A16: Margin by month | B16: The same by month.
A17: Decisions | B17: Lines by decision.
A18: Xero bills | B18: The cross-check by bill, with GST at 10% per bill.
A20: The totals row under a table follows the filters. Prices are ex GST in AUD.
A21: Margin is on the sell price: (sell less cost) divided by sell.
A23: Prepared by Manaz Afzal

Sheet Summary
A1: Summary and tie-out checks
A2: Green cells are live formulas. 'Printed in walkthrough' is the figure shown in index.md, so the workbook can be compared with it.
A4: Pricebook and import | B4: Value | C4: Printed in walkthrough | D4: Match | E4: Note
A5: Pricebook lines | B5: =COUNTA(Pricebook!$A$2:$A$1401) -> 1400 | C5: 1400 | D5: =IF(ABS(B5-C5)<=0,"OK","CHECK") -> OK
A6: Active lines | B6: =COUNTIF(Pricebook!$E$2:$E$1401,"<>Discontinued") -> 1383 | C6: 1383 | D6: =IF(ABS(B6-C6)<=0,"OK","CHECK") -> OK
A7: Archived (discontinued) lines | B7: =COUNTIF(Pricebook!$E$2:$E$1401,"Discontinued") -> 17 | C7: 17 | D7: =IF(ABS(B7-C7)<=0,"OK","CHECK") -> OK
A8: Lines on the approval list | B8: =COUNTIF(Pricebook!$O$2:$O$1401,"Approval") -> 279 | C8: 279 | D8: =IF(ABS(B8-C8)<=0,"OK","CHECK") -> OK
A9: Approval list rows | B9: =COUNTA('Approval list'!$A$2:$A$280) -> 279 | C9: 279 | D9: =IF(ABS(B9-C9)<=0,"OK","CHECK") -> OK
A10: Within rules (no separate approval) | B10: =Decisions!B2 -> 1104 | C10: 1104 | D10: =IF(ABS(B10-C10)<=0,"OK","CHECK") -> OK
A11: Approved as proposed | B11: =Decisions!B3 -> 215 | C11: 215 | D11: =IF(ABS(B11-C11)<=0,"OK","CHECK") -> OK
A12: Approved, capped at +10% | B12: =Decisions!B4 -> 40 | C12: 40 | D12: =IF(ABS(B12-C12)<=0,"OK","CHECK") -> OK
A13: Held at old sell price | B13: =Decisions!B5 -> 24 | C13: 24 | D13: =IF(ABS(B13-C13)<=0,"OK","CHECK") -> OK
A14: Archived | B14: =Decisions!B6 -> 17 | C14: 17 | D14: =IF(ABS(B14-C14)<=0,"OK","CHECK") -> OK
A15: Rows in the import file | B15: =COUNTA('Import file'!$A$2:$A$1384) -> 1383 | C15: 1383 | D15: =IF(ABS(B15-C15)<=0,"OK","CHECK") -> OK
A16: Import rows = active lines (difference) | B16: =COUNTA('Import file'!$A$2:$A$1384)-COUNTIF(Pricebook!$E$2:$E$1401,"<>Discontinued") -> 0 | C16: 0 | D16: =IF(ABS(B16-C16)<=0,"OK","CHECK") -> OK | E16: Import count = approved count
A18: Checks (Exhibit C) | B18: Value | C18: Printed in walkthrough | D18: Match | E18: Note
A19: Active lines with current cost equal to the supplier file | B19: =COUNTIF(Pricebook!$T$2:$T$1401,"Yes") -> 1383 | C19: 1383 | D19: =IF(ABS(B19-C19)<=0,"OK","CHECK") -> OK | E19: 1,383 of 1,383 after
A20: Active lines with the old cost within 1% of the file (before) | B20: =COUNTIF(Pricebook!$U$2:$U$1401,"Yes") -> 0 | C20: 0 | D20: =IF(ABS(B20-C20)<=0,"OK","CHECK") -> OK | E20: 0 of 1,383 before
A21: Active lines more than 1 point below target margin (before) | B21: =COUNTIF(Pricebook!$X$2:$X$1401,"Yes") -> 1382 | C21: 1382 | D21: =IF(ABS(B21-C21)<=0,"OK","CHECK") -> OK | E21: 1,382 of 1,383 before
A22: At or above target margin now | B22: =COUNTIF(Pricebook!$W$2:$W$1401,"At or above target") -> 1066 | C22: 1066 | D22: =IF(ABS(B22-C22)<=0,"OK","CHECK") -> OK
A23: Below target, reason recorded | B23: =COUNTIF(Pricebook!$W$2:$W$1401,"Below target, reason recorded") -> 317 | C23: 317 | D23: =IF(ABS(B23-C23)<=0,"OK","CHECK") -> OK
A24: Below target with a competitive reason | B24: =COUNTIFS(Pricebook!$W$2:$W$1401,"Below target, reason recorded",Pricebook!$Q$2:$Q$1401,"Competitive*") -> 255 | C24: 255 | D24: =IF(ABS(B24-C24)<=0,"OK","CHECK") -> OK
A25: Below target, capped at +10% | B25: =COUNTIFS(Pricebook!$W$2:$W$1401,"Below target, reason recorded",Pricebook!$Q$2:$Q$1401,"Owner cap*") -> 38 | C25: 38 | D25: =IF(ABS(B25-C25)<=0,"OK","CHECK") -> OK
A26: Below target, held | B26: =COUNTIFS(Pricebook!$W$2:$W$1401,"Below target, reason recorded",Pricebook!$Q$2:$Q$1401,"Fixed-price*") -> 24 | C26: 24 | D26: =IF(ABS(B26-C26)<=0,"OK","CHECK") -> OK
A27: Below target, no reason | B27: =COUNTIF(Pricebook!$W$2:$W$1401,"Below target, no reason") -> 0 | C27: 0 | D27: =IF(ABS(B27-C27)<=0,"OK","CHECK") -> OK
A29: Margin impact, April to September 2026 | B29: Value | C29: Printed in walkthrough | D29: Match | E29: Note
A30: Billed lines | B30: =COUNTA('Billed lines Apr-Sep'!$A$2:$A$11001) -> 11000 | C30: 11000 | D30: =IF(ABS(B30-C30)<=0,"OK","CHECK") -> OK
A31: Billed (ex GST) | B31: ='Margin by group'!E11 -> 1835368.1 | C31: 1835368 | D31: =IF(ABS(B31-C31)<=0.5,"OK","CHECK") -> OK
A32: Cost | B32: ='Margin by group'!F11 -> 1268456.6 | C32: 1268457 | D32: =IF(ABS(B32-C32)<=0.5,"OK","CHECK") -> OK
A33: Margin billed | B33: ='Margin by group'!G11 -> 0.30888164 | C33: 0.309 | D33: =IF(ABS(B33-C33)<=0.0006,"OK","CHECK") -> OK | E33: 30.9%
A34: At new prices | B34: ='Margin by group'!H11 -> 1985249.9 | C34: 1985250 | D34: =IF(ABS(B34-C34)<=0.5,"OK","CHECK") -> OK
A35: Margin at new prices | B35: ='Margin by group'!I11 -> 0.36105951 | C35: 0.361 | D35: =IF(ABS(B35-C35)<=0.0006,"OK","CHECK") -> OK | E35: 36.1%
A36: Difference | B36: ='Margin by group'!J11 -> 149881.85 | C36: 149882 | D36: =IF(ABS(B36-C36)<=0.5,"OK","CHECK") -> OK
A37: Months table total = group table total (billed, difference) | B37: ='Margin by month'!C8-'Margin by group'!E11 -> 0 | C37: 0 | D37: =IF(ABS(B37-C37)<=0.005,"OK","CHECK") -> OK
A39: Cross-check against Xero bills (September 2026) | B39: Value | C39: Printed in walkthrough | D39: Match | E39: Note
A40: Lines checked | B40: =COUNTA('Xero cross-check'!$A$2:$A$61) -> 60 | C40: 60 | D40: =IF(ABS(B40-C40)<=0,"OK","CHECK") -> OK
A41: Lines within 1% | B41: =COUNTIF('Xero cross-check'!$J$2:$J$61,"Within 1%") -> 57 | C41: 57 | D41: =IF(ABS(B41-C41)<=0,"OK","CHECK") -> OK
A42: Lines raised with the supplier | B42: =COUNTIF('Xero cross-check'!$J$2:$J$61,"Query supplier") -> 3 | C42: 3 | D42: =IF(ABS(B42-C42)<=0,"OK","CHECK") -> OK
A43: Bills ex GST | B43: ='Xero bills'!E16 -> 7186.38 | C43: 7186.38 | D43: =IF(ABS(B43-C43)<=0.005,"OK","CHECK") -> OK
A44: GST (10% per bill) | B44: ='Xero bills'!F16 -> 718.64 | C44: 718.64 | D44: =IF(ABS(B44-C44)<=0.005,"OK","CHECK") -> OK
...

Sheet Pricebook
A1: Part number | B1: Description | C1: Group | D1: Supplier | E1: Status | F1: Old cost | G1: Current cost | H1: Old sell | I1: Group target margin | J1: Agreed margin (competitive items) | K1: Proposed sell | L1: Final sell | M1: Margin at old sell and current cost | N1: Margin at final sell | O1: Route | P1: Decision | Q1: Reason | R1: Part number in supplier file | S1: Supplier file cost | T1: Cost matches file | U1: Old cost within 1% of file cost | V1: Proposed change on old sell | W1: Margin check | X1: More than 1 point below target before
A2: EWA-1004 | B2: Weatherproof meter box IP56, 1 phase, Range A | C2: Switchboards and enclosures | D2: Electrical wholesaler A | E2: Current | F2: 37.4 | G2: 41.04 | H2: 53.45 | I2: 0.3 | K2: =IF(E2="Discontinued",H2,ROUND(ROUNDUP(ROUND(G2/(1-IF(J2="",I2,J2))/0.05,6),0)*0.05,2)) -> 58.65 | L2: =IF(OR(E2="Discontinued",P2="Held at old sell"),H2,IF(LEFT(P2,15)="Approved, cappe",ROUND(ROUNDUP(ROUND(H2*1.1/0.05,6),0)*0.05,2),K2)) -> 58.65 | M2: =ROUND((H2-G2)/H2,3) -> 0.232 | N2: =IF(E2="Discontinued","",ROUND((L2-G2)/L2,3)) -> 0.3 | O2: =IF(E2="Discontinued","Archive",IF(AND(ROUND(K2/H2-1,6)<=0.1,K2-H2<=100),"Auto","Approval")) -> Auto | P2: Within rules | R2: =IF(E2="Superseded",MID(INDEX('Import file'!$E$2:$E$1384,MATCH(A2,'Import file'!$A$2:$A$1384,0)),23,30),A2) -> EWA-1004 | S2: =IF(E2="Discontinued","",IFERROR(INDEX('Supplier file A'!$D$2:$D$677,MATCH(R2,'Supplier file A'!$A$2:$A$677,0)),IFERROR(INDEX('Supplier file B'!$D$2:$D$386,MATCH(R2,'Supplier file B'!$A$2:$A$386,0)),INDEX('Supplier file C'!$D$2:$D$383,MATCH(R2,'Supplier file C'!$A$2:$A$383,0))))) -> 41.04 | T2: =IF(E2="Discontinued","",IF(ABS(G2-S2)<0.005,"Yes","No")) -> Yes | U2: =IF(E2="Discontinued","",IF(ABS(F2-G2)<=0.01*G2,"Yes","No")) -> No | V2: =IF(E2="Discontinued","",K2/H2-1) -> 0.097287184 | W2: =IF(E2="Discontinued","Archived",IF(ROUND((L2-G2)/L2,3)>=ROUND(I2,3),"At or above target",IF(Q2<>"","Below target, reason recorded","Below target, no reason"))) -> At or above target | X2: =IF(E2="Discontinued","",IF(ROUND(M2-I2,3)<-0.01,"Yes","No")) -> Yes
A3: EWA-1008 | B3: DIN rail 35mm x 2m, slotted, Range A | C3: Switchboards and enclosures | D3: Electrical wholesaler A | E3: Current | F3: 9.35 | G3: 10.16 | H3: 13.4 | I3: 0.3 | K3: =IF(E3="Discontinued",H3,ROUND(ROUNDUP(ROUND(G3/(1-IF(J3="",I3,J3))/0.05,6),0)*0.05,2)) -> 14.55 | L3: =IF(OR(E3="Discontinued",P3="Held at old sell"),H3,IF(LEFT(P3,15)="Approved, cappe",ROUND(ROUNDUP(ROUND(H3*1.1/0.05,6),0)*0.05,2),K3)) -> 14.55 | M3: =ROUND((H3-G3)/H3,3) -> 0.242 | N3: =IF(E3="Discontinued","",ROUND((L3-G3)/L3,3)) -> 0.302 | O3: =IF(E3="Discontinued","Archive",IF(AND(ROUND(K3/H3-1,6)<=0.1,K3-H3<=100),"Auto","Approval")) -> Auto | P3: Within rules | R3: =IF(E3="Superseded",MID(INDEX('Import file'!$E$2:$E$1384,MATCH(A3,'Import file'!$A$2:$A$1384,0)),23,30),A3) -> EWA-1008 | S3: =IF(E3="Discontinued","",IFERROR(INDEX('Supplier file A'!$D$2:$D$677,MATCH(R3,'Supplier file A'!$A$2:$A$677,0)),IFERROR(INDEX('Supplier file B'!$D$2:$D$386,MATCH(R3,'Supplier file B'!$A$2:$A$386,0)),INDEX('Supplier file C'!$D$2:$D$383,MATCH(R3,'Supplier file C'!$A$2:$A$383,0))))) -> 10.16 | T3: =IF(E3="Discontinued","",IF(ABS(G3-S3)<0.005,"Yes","No")) -> Yes | U3: =IF(E3="Discontinued","",IF(ABS(F3-G3)<=0.01*G3,"Yes","No")) -> No | V3: =IF(E3="Discontinued","",K3/H3-1) -> 0.085820896 | W3: =IF(E3="Discontinued","Archived",IF(ROUND((L3-G3)/L3,3)>=ROUND(I3,3),"At or above target",IF(Q3<>"","Below target, reason recorded","Below target, no reason"))) -> At or above target | X3: =IF(E3="Discontinued","",IF(ROUND(M3-I3,3)<-0.01,"Yes","No")) -> Yes
A4: EWA-1009 | B4: Switchboard enclosure 48 pole, IP65 weatherproof | C4: Switchboards and enclosures | D4: Electrical wholesaler A | E4: Current | F4: 397.5 | G4: 429.38 | H4: 567.9 | I4: 0.3 | K4: =IF(E4="Discontinued",H4,ROUND(ROUNDUP(ROUND(G4/(1-IF(J4="",I4,J4))/0.05,6),0)*0.05,2)) -> 613.4 | L4: =IF(OR(E4="Discontinued",P4="Held at old sell"),H4,IF(LEFT(P4,15)="Approved, cappe",ROUND(ROUNDUP(ROUND(H4*1.1/0.05,6),0)*0.05,2),K4)) -> 613.4 | M4: =ROUND((H4-G4)/H4,3) -> 0.244 | N4: =IF(E4="Discontinued","",ROUND((L4-G4)/L4,3)) -> 0.3 | O4: =IF(E4="Discontinued","Archive",IF(AND(ROUND(K4/H4-1,6)<=0.1,K4-H4<=100),"Auto","Approval")) -> Auto | P4: Within rules | R4: =IF(E4="Superseded",MID(INDEX('Import file'!$E$2:$E$1384,MATCH(A4,'Import file'!$A$2:$A$1384,0)),23,30),A4) -> EWA-1009 | S4: =IF(E4="Discontinued","",IFERROR(INDEX('Supplier file A'!$D$2:$D$677,MATCH(R4,'Supplier file A'!$A$2:$A$677,0)),IFERROR(INDEX('Supplier file B'!$D$2:$D$386,MATCH(R4,'Supplier file B'!$A$2:$A$386,0)),INDEX('Supplier file C'!$D$2:$D$383,MATCH(R4,'Supplier file C'!$A$2:$A$383,0))))) -> 429.38 | T4: =IF(E4="Discontinued","",IF(ABS(G4-S4)<0.005,"Yes","No")) -> Yes | U4: =IF(E4="Discontinued","",IF(ABS(F4-G4)<=0.01*G4,"Yes","No")) -> No | V4: =IF(E4="Discontinued","",K4/H4-1) -> 0.080119739 | W4: =IF(E4="Discontinued","Archived",IF(ROUND((L4-G4)/L4,3)>=ROUND(I4,3),"At or above target",IF(Q4<>"","Below target, reason recorded","Below target, no reason"))) -> At or above target | X4: =IF(E4="Discontinued","",IF(ROUND(M4-I4,3)<-0.01,"Yes","No")) -> Yes
A5: EWA-1014 | B5: Switchboard enclosure 48 pole, flush | C5: Switchboards and enclosures | D5: Electrical wholesaler A | E5: Current | F5: 296.8 | G5: 324.08 | H5: 424 | I5: 0.3 | K5: =IF(E5="Discontinued",H5,ROUND(ROUNDUP(ROUND(G5/(1-IF(J5="",I5,J5))/0.05,6),0)*0.05,2)) -> 463 | L5: =IF(OR(E5="Discontinued",P5="Held at old sell"),H5,IF(LEFT(P5,15)="Approved, cappe",ROUND(ROUNDUP(ROUND(H5*1.1/0.05,6),0)*0.05,2),K5)) -> 463 | M5: =ROUND((H5-G5)/H5,3) -> 0.236 | N5: =IF(E5="Discontinued","",ROUND((L5-G5)/L5,3)) -> 0.3 | O5: =IF(E5="Discontinued","Archive",IF(AND(ROUND(K5/H5-1,6)<=0.1,K5-H5<=100),"Auto","Approval")) -> Auto | P5: Within rules | R5: =IF(E5="Superseded",MID(INDEX('Import file'!$E$2:$E$1384,MATCH(A5,'Import file'!$A$2:$A$1384,0)),23,30),A5) -> EWA-1014 | S5: =IF(E5="Discontinued","",IFERROR(INDEX('Supplier file A'!$D$2:$D$677,MATCH(R5,'Supplier file A'!$A$2:$A$677,0)),IFERROR(INDEX('Supplier file B'!$D$2:$D$386,MATCH(R5,'Supplier file B'!$A$2:$A$386,0)),INDEX('Supplier file C'!$D$2:$D$383,MATCH(R5,'Supplier file C'!$A$2:$A$383,0))))) -> 324.08 | T5: =IF(E5="Discontinued","",IF(ABS(G5-S5)<0.005,"Yes","No")) -> Yes | U5: =IF(E5="Discontinued","",IF(ABS(F5-G5)<=0.01*G5,"Yes","No")) -> No | V5: =IF(E5="Discontinued","",K5/H5-1) -> 0.091981132 | W5: =IF(E5="Discontinued","Archived",IF(ROUND((L5-G5)/L5,3)>=ROUND(I5,3),"At or above target",IF(Q5<>"","Below target, reason recorded","Below target, no reason"))) -> At or above target | X5: =IF(E5="Discontinued","",IF(ROUND(M5-I5,3)<-0.01,"Yes","No")) -> Yes
A6: EWA-1016 | B6: Main switch 4P 63A, Range D | C6: Switchboards and enclosures | D6: Electrical wholesaler A | E6: Current | F6: 70.2 | G6: 76 | H6: 100.3 | I6: 0.3 | K6: =IF(E6="Discontinued",H6,ROUND(ROUNDUP(ROUND(G6/(1-IF(J6="",I6,J6))/0.05,6),0)*0.05,2)) -> 108.6 | L6: =IF(OR(E6="Discontinued",P6="Held at old sell"),H6,IF(LEFT(P6,15)="Approved, cappe",ROUND(ROUNDUP(ROUND(H6*1.1/0.05,6),0)*0.05,2),K6)) -> 108.6 | M6: =ROUND((H6-G6)/H6,3) -> 0.242 | N6: =IF(E6="Discontinued","",ROUND((L6-G6)/L6,3)) -> 0.3 | O6: =IF(E6="Discontinued","Archive",IF(AND(ROUND(K6/H6-1,6)<=0.1,K6-H6<=100),"Auto","Approval")) -> Auto | P6: Within rules | R6: =IF(E6="Superseded",MID(INDEX('Import file'!$E$2:$E$1384,MATCH(A6,'Import file'!$A$2:$A$1384,0)),23,30),A6) -> EWA-1016 | S6: =IF(E6="Discontinued","",IFERROR(INDEX('Supplier file A'!$D$2:$D$677,MATCH(R6,'Supplier file A'!$A$2:$A$677,0)),IFERROR(INDEX('Supplier file B'!$D$2:$D$386,MATCH(R6,'Supplier file B'!$A$2:$A$386,0)),INDEX('Supplier file C'!$D$2:$D$383,MATCH(R6,'Supplier file C'!$A$2:$A$383,0))))) -> 76 | T6: =IF(E6="Discontinued","",IF(ABS(G6-S6)<0.005,"Yes","No")) -> Yes | U6: =IF(E6="Discontinued","",IF(ABS(F6-G6)<=0.01*G6,"Yes","No")) -> No | V6: =IF(E6="Discontinued","",K6/H6-1) -> 0.082751745 | W6: =IF(E6="Discontinued","Archived",IF(ROUND((L6-G6)/L6,3)>=ROUND(I6,3),"At or above target",IF(Q6<>"","Below target, reason recorded","Below target, no reason"))) -> At or above target | X6: =IF(E6="Discontinued","",IF(ROUND(M6-I6,3)<-0.01,"Yes","No")) -> Yes
A7: EWA-1020 | B7: Switchboard enclosure 36 pole, IP65 weatherproof | C7: Switchboards and enclosures | D7: Electrical wholesaler A | E7: Current | F7: 285 | G7: 313.92 | H7: 360.8 | I7: 0.3 | J7: 0.21 | K7: =IF(E7="Discontinued",H7,ROUND(ROUNDUP(ROUND(G7/(1-IF(J7="",I7,J7))/0.05,6),0)*0.05,2)) -> 397.4 | L7: =IF(OR(E7="Discontinued",P7="Held at old sell"),H7,IF(LEFT(P7,15)="Approved, cappe",ROUND(ROUNDUP(ROUND(H7*1.1/0.05,6),0)*0.05,2),K7)) -> 360.8 | M7: =ROUND((H7-G7)/H7,3) -> 0.13 | N7: =IF(E7="Discontinued","",ROUND((L7-G7)/L7,3)) -> 0.13 | O7: =IF(E7="Discontinued","Archive",IF(AND(ROUND(K7/H7-1,6)<=0.1,K7-H7<=100),"Auto","Approval")) -> Approval | P7: Held at old sell | Q7: Fixed-price job held to 31 Dec 2026 | R7: =IF(E7="Superseded",MID(INDEX('Import file'!$E$2:$E$1384,MATCH(A7,'Import file'!$A$2:$A$1384,0)),23,30),A7) -> EWA-1020 | S7: =IF(E7="Discontinued","",IFERROR(INDEX('Supplier file A'!$D$2:$D$677,MATCH(R7,'Supplier file A'!$A$2:$A$677,0)),IFERROR(INDEX('Supplier file B'!$D$2:$D$386,MATCH(R7,'Supplier file B'!$A$2:$A$386,0)),INDEX('Supplier file C'!$D$2:$D$383,MATCH(R7,'Supplier file C'!$A$2:$A$383,0))))) -> 313.92 | T7: =IF(E7="Discontinued","",IF(ABS(G7-S7)<0.005,"Yes","No")) -> Yes | U7: =IF(E7="Discontinued","",IF(ABS(F7-G7)<=0.01*G7,"Yes","No")) -> No | V7: =IF(E7="Discontinued","",K7/H7-1) -> 0.10144124 | W7: =IF(E7="Discontinued","Archived",IF(ROUND((L7-G7)/L7,3)>=ROUND(I7,3),"At or above target",IF(Q7<>"","Below target, reason recorded","Below target, no reason"))) -> Below target, reason recorded | X7: =IF(E7="Discontinued","",IF(ROUND(M7-I7,3)<-0.01,"Yes","No")) -> Yes
A8: EWA-1023 | B8: Busbar kit 3P 63A, Range C | C8: Switchboards and enclosures | D8: Electrical wholesaler A | E8: Current | F8: 43.7 | G8: 47.22 | H8: 62.45 | I8: 0.3 | K8: =IF(E8="Discontinued",H8,ROUND(ROUNDUP(ROUND(G8/(1-IF(J8="",I8,J8))/0.05,6),0)*0.05,2)) -> 67.5 | L8: =IF(OR(E8="Discontinued",P8="Held at old sell"),H8,IF(LEFT(P8,15)="Approved, cappe",ROUND(ROUNDUP(ROUND(H8*1.1/0.05,6),0)*0.05,2),K8)) -> 67.5 | M8: =ROUND((H8-G8)/H8,3) -> 0.244 | N8: =IF(E8="Discontinued","",ROUND((L8-G8)/L8,3)) -> 0.3 | O8: =IF(E8="Discontinued","Archive",IF(AND(ROUND(K8/H8-1,6)<=0.1,K8-H8<=100),"Auto","Approval")) -> Auto | P8: Within rules | R8: =IF(E8="Superseded",MID(INDEX('Import file'!$E$2:$E$1384,MATCH(A8,'Import file'!$A$2:$A$1384,0)),23,30),A8) -> EWA-1023 | S8: =IF(E8="Discontinued","",IFERROR(INDEX('Supplier file A'!$D$2:$D$677,MATCH(R8,'Supplier file A'!$A$2:$A$677,0)),IFERROR(INDEX('Supplier file B'!$D$2:$D$386,MATCH(R8,'Supplier file B'!$A$2:$A$386,0)),INDEX('Supplier file C'!$D$2:$D$383,MATCH(R8,'Supplier file C'!$A$2:$A$383,0))))) -> 47.22 | T8: =IF(E8="Discontinued","",IF(ABS(G8-S8)<0.005,"Yes","No")) -> Yes | U8: =IF(E8="Discontinued","",IF(ABS(F8-G8)<=0.01*G8,"Yes","No")) -> No | V8: =IF(E8="Discontinued","",K8/H8-1) -> 0.080864692 | W8: =IF(E8="Discontinued","Archived",IF(ROUND((L8-G8)/L8,3)>=ROUND(I8,3),"At or above target",IF(Q8<>"","Below target, reason recorded","Below target, no reason"))) -> At or above target | X8: =IF(E8="Discontinued","",IF(ROUND(M8-I8,3)<-0.01,"Yes","No")) -> Yes
A9: EWA-1025 | B9: Meter panel, 1 phase, Range B | C9: Switchboards and enclosures | D9: Electrical wholesaler A | E9: Current | F9: 34 | G9: 37.27 | H9: 43.05 | I9: 0.3 | J9: 0.21 | K9: =IF(E9="Discontinued",H9,ROUND(ROUNDUP(ROUND(G9/(1-IF(J9="",I9,J9))/0.05,6),0)*0.05,2)) -> 47.2 | L9: =IF(OR(E9="Discontinued",P9="Held at old sell"),H9,IF(LEFT(P9,15)="Approved, cappe",ROUND(ROUNDUP(ROUND(H9*1.1/0.05,6),0)*0.05,2),K9)) -> 47.2 | M9: =ROUND((H9-G9)/H9,3) -> 0.134 | N9: =IF(E9="Discontinued","",ROUND((L9-G9)/L9,3)) -> 0.21 | O9: =IF(E9="Discontinued","Archive",IF(AND(ROUND(K9/H9-1,6)<=0.1,K9-H9<=100),"Auto","Approval")) -> Auto | P9: Within rules | Q9: Competitive item, agreed margin 21% | R9: =IF(E9="Superseded",MID(INDEX('Import file'!$E$2:$E$1384,MATCH(A9,'Import file'!$A$2:$A$1384,0)),23,30),A9) -> EWA-1025 | S9: =IF(E9="Discontinued","",IFERROR(INDEX('Supplier file A'!$D$2:$D$677,MATCH(R9,'Supplier file A'!$A$2:$A$677,0)),IFERROR(INDEX('Supplier file B'!$D$2:$D$386,MATCH(R9,'Supplier file B'!$A$2:$A$386,0)),INDEX('Supplier file C'!$D$2:$D$383,MATCH(R9,'Supplier file C'!$A$2:$A$383,0))))) -> 37.27 | T9: =IF(E9="Discontinued","",IF(ABS(G9-S9)<0.005,"Yes","No")) -> Yes | U9: =IF(E9="Discontinued","",IF(ABS(F9-G9)<=0.01*G9,"Yes","No")) -> No | V9: =IF(E9="Discontinued","",K9/H9-1) -> 0.096399535 | W9: =IF(E9="Discontinued","Archived",IF(ROUND((L9-G9)/L9,3)>=ROUND(I9,3),"At or above target",IF(Q9<>"","Below target, reason recorded","Below target, no reason"))) -> Below target, reason recorded | X9: =IF(E9="Discontinued","",IF(ROUND(M9-I9,3)<-0.01,"Yes","No")) -> Yes
A10: EWA-1028 | B10: Surface enclosure 12 module, DIN rail, Range C | C10: Switchboards and enclosures | D10: Electrical wholesaler A | E10: Superseded | F10: 34.5 | G10: 37.48 | H10: 49.3 | I10: 0.3 | K10: =IF(E10="Discontinued",H10,ROUND(ROUNDUP(ROUND(G10/(1-IF(J10="",I10,J10))/0.05,6),0)*0.05,2)) -> 53.55 | L10: =IF(OR(E10="Discontinued",P10="Held at old sell"),H10,IF(LEFT(P10,15)="Approved, cappe",ROUND(ROUNDUP(ROUND(H10*1.1/0.05,6),0)*0.05,2),K10)) -> 53.55 | M10: =ROUND((H10-G10)/H10,3) -> 0.24 | N10: =IF(E10="Discontinued","",ROUND((L10-G10)/L10,3)) -> 0.3 | O10: =IF(E10="Discontinued","Archive",IF(AND(ROUND(K10/H10-1,6)<=0.1,K10-H10<=100),"Auto","Approval")) -> Auto | P10: Within rules | R10: =IF(E10="Superseded",MID(INDEX('Import file'!$E$2:$E$1384,MATCH(A10,'Import file'!$A$2:$A$1384,0)),23,30),A10) -> EWA-6028 | S10: =IF(E10="Discontinued","",IFERROR(INDEX('Supplier file A'!$D$2:$D$677,MATCH(R10,'Supplier file A'!$A$2:$A$677,0)),IFERROR(INDEX('Supplier file B'!$D$2:$D$386,MATCH(R10,'Supplier file B'!$A$2:$A$386,0)),INDEX('Supplier file C'!$D$2:$D$383,MATCH(R10,'Supplier file C'!$A$2:$A$383,0))))) -> 37.48 | T10: =IF(E10="Discontinued","",IF(ABS(G10-S10)<0.005,"Yes","No")) -> Yes | U10: =IF(E10="Discontinued","",IF(ABS(F10-G10)<=0.01*G10,"Yes","No")) -> No | V10: =IF(E10="Discontinued","",K10/H10-1) -> 0.086206897 | W10: =IF(E10="Discontinued","Archived",IF(ROUND((L10-G10)/L10,3)>=ROUND(I10,3),"At or above target",IF(Q10<>"","Below target, reason recorded","Below target, no reason"))) -> At or above target | X10: =IF(E10="Discontinued","",IF(ROUND(M10-I10,3)<-0.01,"Yes","No")) -> Yes
A11: EWA-1030 | B11: Weatherproof meter box IP56, 1 phase, Range C | C11: Switchboards and enclosures | D11: Electrical wholesaler A | E11: Current | F11: 50.6 | G11: 54.98 | H11: 67.5 | I11: 0.3 | J11: 0.25 | K11: =IF(E11="Discontinued",H11,ROUND(ROUNDUP(ROUND(G11/(1-IF(J11="",I11,J11))/0.05,6),0)*0.05,2)) -> 73.35 | L11: =IF(OR(E11="Discontinued",P11="Held at old sell"),H11,IF(LEFT(P11,15)="Approved, cappe",ROUND(ROUNDUP(ROUND(H11*1.1/0.05,6),0)*0.05,2),K11)) -> 73.35 | M11: =ROUND((H11-G11)/H11,3) -> 0.185 | N11: =IF(E11="Discontinued","",ROUND((L11-G11)/L11,3)) -> 0.25 | O11: =IF(E11="Discontinued","Archive",IF(AND(ROUND(K11/H11-1,6)<=0.1,K11-H11<=100),"Auto","Approval")) -> Auto | P11: Within rules | Q11: Competitive item, agreed margin 25% | R11: =IF(E11="Superseded",MID(INDEX('Import file'!$E$2:$E$1384,MATCH(A11,'Import file'!$A$2:$A$1384,0)),23,30),A11) -> EWA-1030 | S11: =IF(E11="Discontinued","",IFERROR(INDEX('Supplier file A'!$D$2:$D$677,MATCH(R11,'Supplier file A'!$A$2:$A$677,0)),IFERROR(INDEX('Supplier file B'!$D$2:$D$386,MATCH(R11,'Supplier file B'!$A$2:$A$386,0)),INDEX('Supplier file C'!$D$2:$D$383,MATCH(R11,'Supplier file C'!$A$2:$A$383,0))))) -> 54.98 | T11: =IF(E11="Discontinued","",IF(ABS(G11-S11)<0.005,"Yes","No")) -> Yes | U11: =IF(E11="Discontinued","",IF(ABS(F11-G11)<=0.01*G11,"Yes","No")) -> No | V11: =IF(E11="Discontinued","",K11/H11-1) -> 0.086666667 | W11: =IF(E11="Discontinued","Archived",IF(ROUND((L11-G11)/L11,3)>=ROUND(I11,3),"At or above target",IF(Q11<>"","Below target, reason recorded","Below target, no reason"))) -> Below target, reason recorded | X11: =IF(E11="Discontinued","",IF(ROUND(M11-I11,3)<-0.01,"Yes","No")) -> Yes
A12: EWA-1033 | B12: Switchboard enclosure 36 pole, flush | C12: Switchboards and enclosures | D12: Electrical wholesaler A | E12: Current | F12: 212.8 | G12: 234.7 | H12: 304 | I12: 0.3 | K12: =IF(E12="Discontinued",H12,ROUND(ROUNDUP(ROUND(G12/(1-IF(J12="",I12,J12))/0.05,6),0)*0.05,2)) -> 335.3 | L12: =IF(OR(E12="Discontinued",P12="Held at old sell"),H12,IF(LEFT(P12,15)="Approved, cappe",ROUND(ROUNDUP(ROUND(H12*1.1/0.05,6),0)*0.05,2),K12)) -> 335.3 | M12: =ROUND((H12-G12)/H12,3) -> 0.228 | N12: =IF(E12="Discontinued","",ROUND((L12-G12)/L12,3)) -> 0.3 | O12: =IF(E12="Discontinued","Archive",IF(AND(ROUND(K12/H12-1,6)<=0.1,K12-H12<=100),"Auto","Approval")) -> Approval | P12: Approved as proposed | R12: =IF(E12="Superseded",MID(INDEX('Import file'!$E$2:$E$1384,MATCH(A12,'Import file'!$A$2:$A$1384,0)),23,30),A12) -> EWA-1033 | S12: =IF(E12="Discontinued","",IFERROR(INDEX('Supplier file A'!$D$2:$D$677,MATCH(R12,'Supplier file A'!$A$2:$A$677,0)),IFERROR(INDEX('Supplier file B'!$D$2:$D$386,MATCH(R12,'Supplier file B'!$A$2:$A$386,0)),INDEX('Supplier file C'!$D$2:$D$383,MATCH(R12,'Supplier file C'!$A$2:$A$383,0))))) -> 234.7 | T12: =IF(E12="Discontinued","",IF(ABS(G12-S12)<0.005,"Yes","No")) -> Yes | U12: =IF(E12="Discontinued","",IF(ABS(F12-G12)<=0.01*G12,"Yes","No")) -> No | V12: =IF(E12="Discontinued","",K12/H12-1) -> 0.10296053 | W12: =IF(E12="Discontinued","Archived",IF(ROUND((L12-G12)/L12,3)>=ROUND(I12,3),"At or above target",IF(Q12<>"","Below target, reason recorded","Below target, no reason"))) -> At or above target | X12: =IF(E12="Discontinued","",IF(ROUND(M12-I12,3)<-0.01,"Yes","No")) -> Yes
A13: EWA-1036 | B13: Surface enclosure 4 module, DIN rail, Range D | C13: Switchboards and enclosures | D13: Electrical wholesaler A | E13: Current | F13: 18.9 | G13: 20.42 | H13: 24.55 | I13: 0.3 | J13: 0.23 | K13: =IF(E13="Discontinued",H13,ROUND(ROUNDUP(ROUND(G13/(1-IF(J13="",I13,J13))/0.05,6),0)*0.05,2)) -> 26.55 | L13: =IF(OR(E13="Discontinued",P13="Held at old sell"),H13,IF(LEFT(P13,15)="Approved, cappe",ROUND(ROUNDUP(ROUND(H13*1.1/0.05,6),0)*0.05,2),K13)) -> 26.55 | M13: =ROUND((H13-G13)/H13,3) -> 0.168 | N13: =IF(E13="Discontinued","",ROUND((L13-G13)/L13,3)) -> 0.231 | O13: =IF(E13="Discontinued","Archive",IF(AND(ROUND(K13/H13-1,6)<=0.1,K13-H13<=100),"Auto","Approval")) -> Auto | P13: Within rules | Q13: Competitive item, agreed margin 23% | R13: =IF(E13="Superseded",MID(INDEX('Import file'!$E$2:$E$1384,MATCH(A13,'Import file'!$A$2:$A$1384,0)),23,30),A13) -> EWA-1036 | S13: =IF(E13="Discontinued","",IFERROR(INDEX('Supplier file A'!$D$2:$D$677,MATCH(R13,'Supplier file A'!$A$2:$A$677,0)),IFERROR(INDEX('Supplier file B'!$D$2:$D$386,MATCH(R13,'Supplier file B'!$A$2:$A$386,0)),INDEX('Supplier file C'!$D$2:$D$383,MATCH(R13,'Supplier file C'!$A$2:$A$383,0))))) -> 20.42 | T13: =IF(E13="Discontinued","",IF(ABS(G13-S13)<0.005,"Yes","No")) -> Yes | U13: =IF(E13="Discontinued","",IF(ABS(F13-G13)<=0.01*G13,"Yes","No")) -> No | V13: =IF(E13="Discontinued","",K13/H13-1) -> 0.081466395 | W13: =IF(E13="Discontinued","Archived",IF(ROUND((L13-G13)/L13,3)>=ROUND(I13,3),"At or above target",IF(Q13<>"","Below target, reason recorded","Below target, no reason"))) -> Below target, reason recorded | X13: =IF(E13="Discontinued","",IF(ROUND(M13-I13,3)<-0.01,"Yes","No")) -> Yes
A14: EWA-1039 | B14: Main switch 4P 250A, Range C | C14: Switchboards and enclosures | D14: Electrical wholesaler A | E14: Current | F14: 276 | G14: 304.1 | H14: 394.3 | I14: 0.3 | K14: =IF(E14="Discontinued",H14,ROUND(ROUNDUP(ROUND(G14/(1-IF(J14="",I14,J14))/0.05,6),0)*0.05,2)) -> 434.45 | L14: =IF(OR(E14="Discontinued",P14="Held at old sell"),H14,IF(LEFT(P14,15)="Approved, cappe",ROUND(ROUNDUP(ROUND(H14*1.1/0.05,6),0)*0.05,2),K14)) -> 434.45 | M14: =ROUND((H14-G14)/H14,3) -> 0.229 | N14: =IF(E14="Discontinued","",ROUND((L14-G14)/L14,3)) -> 0.3 | O14: =IF(E14="Discontinued","Archive",IF(AND(ROUND(K14/H14-1,6)<=0.1,K14-H14<=100),"Auto","Approval")) -> Approval | P14: Approved as proposed | R14: =IF(E14="Superseded",MID(INDEX('Import file'!$E$2:$E$1384,MATCH(A14,'Import file'!$A$2:$A$1384,0)),23,30),A14) -> EWA-1039 | S14: =IF(E14="Discontinued","",IFERROR(INDEX('Supplier file A'!$D$2:$D$677,MATCH(R14,'Supplier file A'!$A$2:$A$677,0)),IFERROR(INDEX('Supplier file B'!$D$2:$D$386,MATCH(R14,'Supplier file B'!$A$2:$A$386,0)),INDEX('Supplier file C'!$D$2:$D$383,MATCH(R14,'Supplier file C'!$A$2:$A$383,0))))) -> 304.1 | T14: =IF(E14="Discontinued","",IF(ABS(G14-S14)<0.005,"Yes","No")) -> Yes | U14: =IF(E14="Discontinued","",IF(ABS(F14-G14)<=0.01*G14,"Yes","No")) -> No | V14: =IF(E14="Discontinued","",K14/H14-1) -> 0.10182602 | W14: =IF(E14="Discontinued","Archived",IF(ROUND((L14-G14)/L14,3)>=ROUND(I14,3),"At or above target",IF(Q14<>"","Below target, reason recorded","Below target, no reason"))) -> At or above target | X14: =IF(E14="Discontinued","",IF(ROUND(M14-I14,3)<-0.01,"Yes","No")) -> Yes
A15: EWA-1043 | B15: DIN rail 35mm x 2m, slotted, Range C | C15: Switchboards and enclosures | D15: Electrical wholesaler A | E15: Current | F15: 12.65 | G15: 13.91 | H15: 15.85 | I15: 0.3 | J15: 0.2 | K15: =IF(E15="Discontinued",H15,ROUND(ROUNDUP(ROUND(G15/(1-IF(J15="",I15,J15))/0.05,6),0)*0.05,2)) -> 17.4 | L15: =IF(OR(E15="Discontinued",P15="Held at old sell"),H15,IF(LEFT(P15,15)="Approved, cappe",ROUND(ROUNDUP(ROUND(H15*1.1/0.05,6),0)*0.05,2),K15)) -> 17.4 | M15: =ROUND((H15-G15)/H15,3) -> 0.122 | N15: =IF(E15="Discontinued","",ROUND((L15-G15)/L15,3)) -> 0.201 | O15: =IF(E15="Discontinued","Archive",IF(AND(ROUND(K15/H15-1,6)<=0.1,K15-H15<=100),"Auto","Approval")) -> Auto | P15: Within rules | Q15: Competitive item, agreed margin 20% | R15: =IF(E15="Superseded",MID(INDEX('Import file'!$E$2:$E$1384,MATCH(A15,'Import file'!$A$2:$A$1384,0)),23,30),A15) -> EWA-1043 | S15: =IF(E15="Discontinued","",IFERROR(INDEX('Supplier file A'!$D$2:$D$677,MATCH(R15,'Supplier file A'!$A$2:$A$677,0)),IFERROR(INDEX('Supplier file B'!$D$2:$D$386,MATCH(R15,'Supplier file B'!$A$2:$A$386,0)),INDEX('Supplier file C'!$D$2:$D$383,MATCH(R15,'Supplier file C'!$A$2:$A$383,0))))) -> 13.91 | T15: =IF(E15="Discontinued","",IF(ABS(G15-S15)<0.005,"Yes","No")) -> Yes | U15: =IF(E15="Discontinued","",IF(ABS(F15-G15)<=0.01*G15,"Yes","No")) -> No | V15: =IF(E15="Discontinued","",K15/H15-1) -> 0.097791798 | W15: =IF(E15="Discontinued","Archived",IF(ROUND((L15-G15)/L15,3)>=ROUND(I15,3),"At or above target",IF(Q15<>"","Below target, reason recorded","Below target, no reason"))) -> Below target, reason recorded | X15: =IF(E15="Discontinued","",IF(ROUND(M15-I15,3)<-0.01,"Yes","No")) -> Yes
A16: EWA-1047 | B16: Meter panel, 1 phase, Range A | C16: Switchboards and enclosures | D16: Electrical wholesaler A | E16: Current | F16: 28.9 | G16: 31.38 | H16: 41.3 | I16: 0.3 | K16: =IF(E16="Discontinued",H16,ROUND(ROUNDUP(ROUND(G16/(1-IF(J16="",I16,J16))/0.05,6),0)*0.05,2)) -> 44.85 | L16: =IF(OR(E16="Discontinued",P16="Held at old sell"),H16,IF(LEFT(P16,15)="Approved, cappe",ROUND(ROUNDUP(ROUND(H16*1.1/0.05,6),0)*0.05,2),K16)) -> 44.85 | M16: =ROUND((H16-G16)/H16,3) -> 0.24 | N16: =IF(E16="Discontinued","",ROUND((L16-G16)/L16,3)) -> 0.3 | O16: =IF(E16="Discontinued","Archive",IF(AND(ROUND(K16/H16-1,6)<=0.1,K16-H16<=100),"Auto","Approval")) -> Auto | P16: Within rules | R16: =IF(E16="Superseded",MID(INDEX('Import file'!$E$2:$E$1384,MATCH(A16,'Import file'!$A$2:$A$1384,0)),23,30),A16) -> EWA-1047 | S16: =IF(E16="Discontinued","",IFERROR(INDEX('Supplier file A'!$D$2:$D$677,MATCH(R16,'Supplier file A'!$A$2:$A$677,0)),IFERROR(INDEX('Supplier file B'!$D$2:$D$386,MATCH(R16,'Supplier file B'!$A$2:$A$386,0)),INDEX('Supplier file C'!$D$2:$D$383,MATCH(R16,'Supplier file C'!$A$2:$A$383,0))))) -> 31.38 | T16: =IF(E16="Discontinued","",IF(ABS(G16-S16)<0.005,"Yes","No")) -> Yes | U16: =IF(E16="Discontinued","",IF(ABS(F16-G16)<=0.01*G16,"Yes","No")) -> No | V16: =IF(E16="Discontinued","",K16/H16-1) -> 0.085956416 | W16: =IF(E16="Discontinued","Archived",IF(ROUND((L16-G16)/L16,3)>=ROUND(I16,3),"At or above target",IF(Q16<>"","Below target, reason recorded","Below target, no reason"))) -> At or above target | X16: =IF(E16="Discontinued","",IF(ROUND(M16-I16,3)<-0.01,"Yes","No")) -> Yes
A17: EWA-1048 | B17: Weatherproof meter box IP56, 3 phase, Range A | C17: Switchboards and enclosures | D17: Electrical wholesaler A | E17: Current | F17: 57.8 | G17: 62.94 | H17: 82.6 | I17: 0.3 | K17: =IF(E17="Discontinued",H17,ROUND(ROUNDUP(ROUND(G17/(1-IF(J17="",I17,J17))/0.05,6),0)*0.05,2)) -> 89.95 | L17: =IF(OR(E17="Discontinued",P17="Held at old sell"),H17,IF(LEFT(P17,15)="Approved, cappe",ROUND(ROUNDUP(ROUND(H17*1.1/0.05,6),0)*0.05,2),K17)) -> 89.95 | M17: =ROUND((H17-G17)/H17,3) -> 0.238 | N17: =IF(E17="Discontinued","",ROUND((L17-G17)/L17,3)) -> 0.3 | O17: =IF(E17="Discontinued","Archive",IF(AND(ROUND(K17/H17-1,6)<=0.1,K17-H17<=100),"Auto","Approval")) -> Auto | P17: Within rules | R17: =IF(E17="Superseded",MID(INDEX('Import file'!$E$2:$E$1384,MATCH(A17,'Import file'!$A$2:$A$1384,0)),23,30),A17) -> EWA-1048 | S17: =IF(E17="Discontinued","",IFERROR(INDEX('Supplier file A'!$D$2:$D$677,MATCH(R17,'Supplier file A'!$A$2:$A$677,0)),IFERROR(INDEX('Supplier file B'!$D$2:$D$386,MATCH(R17,'Supplier file B'!$A$2:$A$386,0)),INDEX('Supplier file C'!$D$2:$D$383,MATCH(R17,'Supplier file C'!$A$2:$A$383,0))))) -> 62.94 | T17: =IF(E17="Discontinued","",IF(ABS(G17-S17)<0.005,"Yes","No")) -> Yes | U17: =IF(E17="Discontinued","",IF(ABS(F17-G17)<=0.01*G17,"Yes","No")) -> No | V17: =IF(E17="Discontinued","",K17/H17-1) -> 0.088983051 | W17: =IF(E17="Discontinued","Archived",IF(ROUND((L17-G17)/L17,3)>=ROUND(I17,3),"At or above target",IF(Q17<>"","Below target, reason recorded","Below target, no reason"))) -> At or above target | X17: =IF(E17="Discontinued","",IF(ROUND(M17-I17,3)<-0.01,"Yes","No")) -> Yes
A18: EWA-1053 | B18: Busbar kit 3P 160A, Range B | C18: Switchboards and enclosures | D18: Electrical wholesaler A | E18: Current | F18: 92 | G18: 99.34 | H18: 131.45 | I18: 0.3 | K18: =IF(E18="Discontinued",H18,ROUND(ROUNDUP(ROUND(G18/(1-IF(J18="",I18,J18))/0.05,6),0)*0.05,2)) -> 141.95 | L18: =IF(OR(E18="Discontinued",P18="Held at old sell"),H18,IF(LEFT(P18,15)="Approved, cappe",ROUND(ROUNDUP(ROUND(H18*1.1/0.05,6),0)*0.05,2),K18)) -> 141.95 | M18: =ROUND((H18-G18)/H18,3) -> 0.244 | N18: =IF(E18="Discontinued","",ROUND((L18-G18)/L18,3)) -> 0.3 | O18: =IF(E18="Discontinued","Archive",IF(AND(ROUND(K18/H18-1,6)<=0.1,K18-H18<=100),"Auto","Approval")) -> Auto | P18: Within rules | R18: =IF(E18="Superseded",MID(INDEX('Import file'!$E$2:$E$1384,MATCH(A18,'Import file'!$A$2:$A$1384,0)),23,30),A18) -> EWA-1053 | S18: =IF(E18="Discontinued","",IFERROR(INDEX('Supplier file A'!$D$2:$D$677,MATCH(R18,'Supplier file A'!$A$2:$A$677,0)),IFERROR(INDEX('Supplier file B'!$D$2:$D$386,MATCH(R18,'Supplier file B'!$A$2:$A$386,0)),INDEX('Supplier file C'!$D$2:$D$383,MATCH(R18,'Supplier file C'!$A$2:$A$383,0))))) -> 99.34 | T18: =IF(E18="Discontinued","",IF(ABS(G18-S18)<0.005,"Yes","No")) -> Yes | U18: =IF(E18="Discontinued","",IF(ABS(F18-G18)<=0.01*G18,"Yes","No")) -> No | V18: =IF(E18="Discontinued","",K18/H18-1) -> 0.079878281 | W18: =IF(E18="Discontinued","Archived",IF(ROUND((L18-G18)/L18,3)>=ROUND(I18,3),"At or above target",IF(Q18<>"","Below target, reason recorded","Below target, no reason"))) -> At or above target | X18: =IF(E18="Discontinued","",IF(ROUND(M18-I18,3)<-0.01,"Yes","No")) -> Yes
A19: EWA-1056 | B19: Earth bar 16 way, Range A | C19: Switchboards and enclosures | D19: Electrical wholesaler A | E19: Current | F19: 13.6 | G19: 14.72 | H19: 19.45 | I19: 0.3 | K19: =IF(E19="Discontinued",H19,ROUND(ROUNDUP(ROUND(G19/(1-IF(J19="",I19,J19))/0.05,6),0)*0.05,2)) -> 21.05 | L19: =IF(OR(E19="Discontinued",P19="Held at old sell"),H19,IF(LEFT(P19,15)="Approved, cappe",ROUND(ROUNDUP(ROUND(H19*1.1/0.05,6),0)*0.05,2),K19)) -> 21.05 | M19: =ROUND((H19-G19)/H19,3) -> 0.243 | N19: =IF(E19="Discontinued","",ROUND((L19-G19)/L19,3)) -> 0.301 | O19: =IF(E19="Discontinued","Archive",IF(AND(ROUND(K19/H19-1,6)<=0.1,K19-H19<=100),"Auto","Approval")) -> Auto | P19: Within rules | R19: =IF(E19="Superseded",MID(INDEX('Import file'!$E$2:$E$1384,MATCH(A19,'Import file'!$A$2:$A$1384,0)),23,30),A19) -> EWA-1056 | S19: =IF(E19="Discontinued","",IFERROR(INDEX('Supplier file A'!$D$2:$D$677,MATCH(R19,'Supplier file A'!$A$2:$A$677,0)),IFERROR(INDEX('Supplier file B'!$D$2:$D$386,MATCH(R19,'Supplier file B'!$A$2:$A$386,0)),INDEX('Supplier file C'!$D$2:$D$383,MATCH(R19,'Supplier file C'!$A$2:$A$383,0))))) -> 14.72 | T19: =IF(E19="Discontinued","",IF(ABS(G19-S19)<0.005,"Yes","No")) -> Yes | U19: =IF(E19="Discontinued","",IF(ABS(F19-G19)<=0.01*G19,"Yes","No")) -> No | V19: =IF(E19="Discontinued","",K19/H19-1) -> 0.082262211 | W19: =IF(E19="Discontinued","Archived",IF(ROUND((L19-G19)/L19,3)>=ROUND(I19,3),"At or above target",IF(Q19<>"","Below target, reason recorded","Below target, no reason"))) -> At or above target | X19: =IF(E19="Discontinued","",IF(ROUND(M19-I19,3)<-0.01,"Yes","No")) -> Yes
A20: EWA-1059 | B20: Busbar kit 3P 100A, Range C | C20: Switchboards and enclosures | D20: Electrical wholesaler A | E20: Current | F20: 64.4 | G20: 70.46 | H20: 92 | I20: 0.3 | K20: =IF(E20="Discontinued",H20,ROUND(ROUNDUP(ROUND(G20/(1-IF(J20="",I20,J20))/0.05,6),0)*0.05,2)) -> 100.7 | L20: =IF(OR(E20="Discontinued",P20="Held at old sell"),H20,IF(LEFT(P20,15)="Approved, cappe",ROUND(ROUNDUP(ROUND(H20*1.1/0.05,6),0)*0.05,2),K20)) -> 100.7 | M20: =ROUND((H20-G20)/H20,3) -> 0.234 | N20: =IF(E20="Discontinued","",ROUND((L20-G20)/L20,3)) -> 0.3 | O20: =IF(E20="Discontinued","Archive",IF(AND(ROUND(K20/H20-1,6)<=0.1,K20-H20<=100),"Auto","Approval")) -> Auto | P20: Within rules | R20: =IF(E20="Superseded",MID(INDEX('Import file'!$E$2:$E$1384,MATCH(A20,'Import file'!$A$2:$A$1384,0)),23,30),A20) -> EWA-1059 | S20: =IF(E20="Discontinued","",IFERROR(INDEX('Supplier file A'!$D$2:$D$677,MATCH(R20,'Supplier file A'!$A$2:$A$677,0)),IFERROR(INDEX('Supplier file B'!$D$2:$D$386,MATCH(R20,'Supplier file B'!$A$2:$A$386,0)),INDEX('Supplier file C'!$D$2:$D$383,MATCH(R20,'Supplier file C'!$A$2:$A$383,0))))) -> 70.46 | T20: =IF(E20="Discontinued","",IF(ABS(G20-S20)<0.005,"Yes","No")) -> Yes | U20: =IF(E20="Discontinued","",IF(ABS(F20-G20)<=0.01*G20,"Yes","No")) -> No | V20: =IF(E20="Discontinued","",K20/H20-1) -> 0.094565217 | W20: =IF(E20="Discontinued","Archived",IF(ROUND((L20-G20)/L20,3)>=ROUND(I20,3),"At or above target",IF(Q20<>"","Below target, reason recorded","Below target, no reason"))) -> At or above target | X20: =IF(E20="Discontinued","",IF(ROUND(M20-I20,3)<-0.01,"Yes","No")) -> Yes
A21: EWA-1062 | B21: Main switch 2P 63A, Range B | C21: Switchboards and enclosures | D21: Electrical wholesaler A | E21: Current | F21: 31 | G21: 33.68 | H21: 44.3 | I21: 0.3 | K21: =IF(E21="Discontinued",H21,ROUND(ROUNDUP(ROUND(G21/(1-IF(J21="",I21,J21))/0.05,6),0)*0.05,2)) -> 48.15 | L21: =IF(OR(E21="Discontinued",P21="Held at old sell"),H21,IF(LEFT(P21,15)="Approved, cappe",ROUND(ROUNDUP(ROUND(H21*1.1/0.05,6),0)*0.05,2),K21)) -> 48.15 | M21: =ROUND((H21-G21)/H21,3) -> 0.24 | N21: =IF(E21="Discontinued","",ROUND((L21-G21)/L21,3)) -> 0.301 | O21: =IF(E21="Discontinued","Archive",IF(AND(ROUND(K21/H21-1,6)<=0.1,K21-H21<=100),"Auto","Approval")) -> Auto | P21: Within rules | R21: =IF(E21="Superseded",MID(INDEX('Import file'!$E$2:$E$1384,MATCH(A21,'Import file'!$A$2:$A$1384,0)),23,30),A21) -> EWA-1062 | S21: =IF(E21="Discontinued","",IFERROR(INDEX('Supplier file A'!$D$2:$D$677,MATCH(R21,'Supplier file A'!$A$2:$A$677,0)),IFERROR(INDEX('Supplier file B'!$D$2:$D$386,MATCH(R21,'Supplier file B'!$A$2:$A$386,0)),INDEX('Supplier file C'!$D$2:$D$383,MATCH(R21,'Supplier file C'!$A$2:$A$383,0))))) -> 33.68 | T21: =IF(E21="Discontinued","",IF(ABS(G21-S21)<0.005,"Yes","No")) -> Yes | U21: =IF(E21="Discontinued","",IF(ABS(F21-G21)<=0.01*G21,"Yes","No")) -> No | V21: =IF(E21="Discontinued","",K21/H21-1) -> 0.086907449 | W21: =IF(E21="Discontinued","Archived",IF(ROUND((L21-G21)/L21,3)>=ROUND(I21,3),"At or above target",IF(Q21<>"","Below target, reason recorded","Below target, no reason"))) -> At or above target | X21: =IF(E21="Discontinued","",IF(ROUND(M21-I21,3)<-0.01,"Yes","No")) -> Yes
A22: EWA-1065 | B22: Busbar kit 3P 160A, Range C | C22: Switchboards and enclosures | D22: Electrical wholesaler A | E22: Current | F22: 105.8 | G22: 114.66 | H22: 151.15 | I22: 0.3 | K22: =IF(E22="Discontinued",H22,ROUND(ROUNDUP(ROUND(G22/(1-IF(J22="",I22,J22))/0.05,6),0)*0.05,2)) -> 163.8 | L22: =IF(OR(E22="Discontinued",P22="Held at old sell"),H22,IF(LEFT(P22,15)="Approved, cappe",ROUND(ROUNDUP(ROUND(H22*1.1/0.05,6),0)*0.05,2),K22)) -> 163.8 | M22: =ROUND((H22-G22)/H22,3) -> 0.241 | N22: =IF(E22="Discontinued","",ROUND((L22-G22)/L22,3)) -> 0.3 | O22: =IF(E22="Discontinued","Archive",IF(AND(ROUND(K22/H22-1,6)<=0.1,K22-H22<=100),"Auto","Approval")) -> Auto | P22: Within rules | R22: =IF(E22="Superseded",MID(INDEX('Import file'!$E$2:$E$1384,MATCH(A22,'Import file'!$A$2:$A$1384,0)),23,30),A22) -> EWA-1065 | S22: =IF(E22="Discontinued","",IFERROR(INDEX('Supplier file A'!$D$2:$D$677,MATCH(R22,'Supplier file A'!$A$2:$A$677,0)),IFERROR(INDEX('Supplier file B'!$D$2:$D$386,MATCH(R22,'Supplier file B'!$A$2:$A$386,0)),INDEX('Supplier file C'!$D$2:$D$383,MATCH(R22,'Supplier file C'!$A$2:$A$383,0))))) -> 114.66 | T22: =IF(E22="Discontinued","",IF(ABS(G22-S22)<0.005,"Yes","No")) -> Yes | U22: =IF(E22="Discontinued","",IF(ABS(F22-G22)<=0.01*G22,"Yes","No")) -> No | V22: =IF(E22="Discontinued","",K22/H22-1) -> 0.083691697 | W22: =IF(E22="Discontinued","Archived",IF(ROUND((L22-G22)/L22,3)>=ROUND(I22,3),"At or above target",IF(Q22<>"","Below target, reason recorded","Below target, no reason"))) -> At or above target | X22: =IF(E22="Discontinued","",IF(ROUND(M22-I22,3)<-0.01,"Yes","No")) -> Yes
A23: EWA-1068 | B23: DIN rail 35mm x 2m, slotted, Range B | C23: Switchboards and enclosures | D23: Electrical wholesaler A | E23: Current | F23: 11 | G23: 12.02 | H23: 15.75 | I23: 0.3 | K23: =IF(E23="Discontinued",H23,ROUND(ROUNDUP(ROUND(G23/(1-IF(J23="",I23,J23))/0.05,6),0)*0.05,2)) -> 17.2 | L23: =IF(OR(E23="Discontinued",P23="Held at old sell"),H23,IF(LEFT(P23,15)="Approved, cappe",ROUND(ROUNDUP(ROUND(H23*1.1/0.05,6),0)*0.05,2),K23)) -> 17.2 | M23: =ROUND((H23-G23)/H23,3) -> 0.237 | N23: =IF(E23="Discontinued","",ROUND((L23-G23)/L23,3)) -> 0.301 | O23: =IF(E23="Discontinued","Archive",IF(AND(ROUND(K23/H23-1,6)<=0.1,K23-H23<=100),"Auto","Approval")) -> Auto | P23: Within rules | R23: =IF(E23="Superseded",MID(INDEX('Import file'!$E$2:$E$1384,MATCH(A23,'Import file'!$A$2:$A$1384,0)),23,30),A23) -> EWA-1068 | S23: =IF(E23="Discontinued","",IFERROR(INDEX('Supplier file A'!$D$2:$D$677,MATCH(R23,'Supplier file A'!$A$2:$A$677,0)),IFERROR(INDEX('Supplier file B'!$D$2:$D$386,MATCH(R23,'Supplier file B'!$A$2:$A$386,0)),INDEX('Supplier file C'!$D$2:$D$383,MATCH(R23,'Supplier file C'!$A$2:$A$383,0))))) -> 12.02 | T23: =IF(E23="Discontinued","",IF(ABS(G23-S23)<0.005,"Yes","No")) -> Yes | U23: =IF(E23="Discontinued","",IF(ABS(F23-G23)<=0.01*G23,"Yes","No")) -> No | V23: =IF(E23="Discontinued","",K23/H23-1) -> 0.092063492 | W23: =IF(E23="Discontinued","Archived",IF(ROUND((L23-G23)/L23,3)>=ROUND(I23,3),"At or above target",IF(Q23<>"","Below target, reason recorded","Below target, no reason"))) -> At or above target | X23: =IF(E23="Discontinued","",IF(ROUND(M23-I23,3)<-0.01,"Yes","No")) -> Yes
A24: EWA-1069 | B24: Busbar kit 3P 100A, Range D | C24: Switchboards and enclosures | D24: Electrical wholesaler A | E24: Current | F24: 75.6 | G24: 83.55 | H24: 108 | I24: 0.3 | K24: =IF(E24="Discontinued",H24,ROUND(ROUNDUP(ROUND(G24/(1-IF(J24="",I24,J24))/0.05,6),0)*0.05,2)) -> 119.4 | L24: =IF(OR(E24="Discontinued",P24="Held at old sell"),H24,IF(LEFT(P24,15)="Approved, cappe",ROUND(ROUNDUP(ROUND(H24*1.1/0.05,6),0)*0.05,2),K24)) -> 119.4 | M24: =ROUND((H24-G24)/H24,3) -> 0.226 | N24: =IF(E24="Discontinued","",ROUND((L24-G24)/L24,3)) -> 0.3 | O24: =IF(E24="Discontinued","Archive",IF(AND(ROUND(K24/H24-1,6)<=0.1,K24-H24<=100),"Auto","Approval")) -> Approval | P24: Approved as proposed | R24: =IF(E24="Superseded",MID(INDEX('Import file'!$E$2:$E$1384,MATCH(A24,'Import file'!$A$2:$A$1384,0)),23,30),A24) -> EWA-1069 | S24: =IF(E24="Discontinued","",IFERROR(INDEX('Supplier file A'!$D$2:$D$677,MATCH(R24,'Supplier file A'!$A$2:$A$677,0)),IFERROR(INDEX('Supplier file B'!$D$2:$D$386,MATCH(R24,'Supplier file B'!$A$2:$A$386,0)),INDEX('Supplier file C'!$D$2:$D$383,MATCH(R24,'Supplier file C'!$A$2:$A$383,0))))) -> 83.55 | T24: =IF(E24="Discontinued","",IF(ABS(G24-S24)<0.005,"Yes","No")) -> Yes | U24: =IF(E24="Discontinued","",IF(ABS(F24-G24)<=0.01*G24,"Yes","No")) -> No | V24: =IF(E24="Discontinued","",K24/H24-1) -> 0.10555556 | W24: =IF(E24="Discontinued","Archived",IF(ROUND((L24-G24)/L24,3)>=ROUND(I24,3),"At or above target",IF(Q24<>"","Below target, reason recorded","Below target, no reason"))) -> At or above target | X24: =IF(E24="Discontinued","",IF(ROUND(M24-I24,3)<-0.01,"Yes","No")) -> Yes
A25: EWA-1073 | B25: Surface enclosure 8 module, DIN rail, Range A | C25: Switchboards and enclosures | D25: Electrical wholesaler A | E25: Current | F25: 17.85 | G25: 19.43 | H25: 25.5 | I25: 0.3 | K25: =IF(E25="Discontinued",H25,ROUND(ROUNDUP(ROUND(G25/(1-IF(J25="",I25,J25))/0.05,6),0)*0.05,2)) -> 27.8 | L25: =IF(OR(E25="Discontinued",P25="Held at old sell"),H25,IF(LEFT(P25,15)="Approved, cappe",ROUND(ROUNDUP(ROUND(H25*1.1/0.05,6),0)*0.05,2),K25)) -> 27.8 | M25: =ROUND((H25-G25)/H25,3) -> 0.238 | N25: =IF(E25="Discontinued","",ROUND((L25-G25)/L25,3)) -> 0.301 | O25: =IF(E25="Discontinued","Archive",IF(AND(ROUND(K25/H25-1,6)<=0.1,K25-H25<=100),"Auto","Approval")) -> Auto | P25: Within rules | R25: =IF(E25="Superseded",MID(INDEX('Import file'!$E$2:$E$1384,MATCH(A25,'Import file'!$A$2:$A$1384,0)),23,30),A25) -> EWA-1073 | S25: =IF(E25="Discontinued","",IFERROR(INDEX('Supplier file A'!$D$2:$D$677,MATCH(R25,'Supplier file A'!$A$2:$A$677,0)),IFERROR(INDEX('Supplier file B'!$D$2:$D$386,MATCH(R25,'Supplier file B'!$A$2:$A$386,0)),INDEX('Supplier file C'!$D$2:$D$383,MATCH(R25,'Supplier file C'!$A$2:$A$383,0))))) -> 19.43 | T25: =IF(E25="Discontinued","",IF(ABS(G25-S25)<0.005,"Yes","No")) -> Yes | U25: =IF(E25="Discontinued","",IF(ABS(F25-G25)<=0.01*G25,"Yes","No")) -> No | V25: =IF(E25="Discontinued","",K25/H25-1) -> 0.090196078 | W25: =IF(E25="Discontinued","Archived",IF(ROUND((L25-G25)/L25,3)>=ROUND(I25,3),"At or above target",IF(Q25<>"","Below target, reason recorded","Below target, no reason"))) -> At or above target | X25: =IF(E25="Discontinued","",IF(ROUND(M25-I25,3)<-0.01,"Yes","No")) -> Yes
A26: EWA-1075 | B26: Terminal block 35mm², 10 pack, Range C | C26: Switchboards and enclosures | D26: Electrical wholesaler A | E26: Current | F26: 32.2 | G26: 35.09 | H26: 46 | I26: 0.3 | K26: =IF(E26="Discontinued",H26,ROUND(ROUNDUP(ROUND(G26/(1-IF(J26="",I26,J26))/0.05,6),0)*0.05,2)) -> 50.15 | L26: =IF(OR(E26="Discontinued",P26="Held at old sell"),H26,IF(LEFT(P26,15)="Approved, cappe",ROUND(ROUNDUP(ROUND(H26*1.1/0.05,6),0)*0.05,2),K26)) -> 50.15 | M26: =ROUND((H26-G26)/H26,3) -> 0.237 | N26: =IF(E26="Discontinued","",ROUND((L26-G26)/L26,3)) -> 0.3 | O26: =IF(E26="Discontinued","Archive",IF(AND(ROUND(K26/H26-1,6)<=0.1,K26-H26<=100),"Auto","Approval")) -> Auto | P26: Within rules | R26: =IF(E26="Superseded",MID(INDEX('Import file'!$E$2:$E$1384,MATCH(A26,'Import file'!$A$2:$A$1384,0)),23,30),A26) -> EWA-1075 | S26: =IF(E26="Discontinued","",IFERROR(INDEX('Supplier file A'!$D$2:$D$677,MATCH(R26,'Supplier file A'!$A$2:$A$677,0)),IFERROR(INDEX('Supplier file B'!$D$2:$D$386,MATCH(R26,'Supplier file B'!$A$2:$A$386,0)),INDEX('Supplier file C'!$D$2:$D$383,MATCH(R26,'Supplier file C'!$A$2:$A$383,0))))) -> 35.09 | T26: =IF(E26="Discontinued","",IF(ABS(G26-S26)<0.005,"Yes","No")) -> Yes | U26: =IF(E26="Discontinued","",IF(ABS(F26-G26)<=0.01*G26,"Yes","No")) -> No | V26: =IF(E26="Discontinued","",K26/H26-1) -> 0.090217391 | W26: =IF(E26="Discontinued","Archived",IF(ROUND((L26-G26)/L26,3)>=ROUND(I26,3),"At or above target",IF(Q26<>"","Below target, reason recorded","Below target, no reason"))) -> At or above target | X26: =IF(E26="Discontinued","",IF(ROUND(M26-I26,3)<-0.01,"Yes","No")) -> Yes
A27: EWA-1078 | B27: Busbar kit 3P 100A, Range A | C27: Switchboards and enclosures | D27: Electrical wholesaler A | E27: Current | F27: 47.6 | G27: 52.27 | H27: 60.3 | I27: 0.3 | J27: 0.21 | K27: =IF(E27="Discontinued",H27,ROUND(ROUNDUP(ROUND(G27/(1-IF(J27="",I27,J27))/0.05,6),0)*0.05,2)) -> 66.2 | L27: =IF(OR(E27="Discontinued",P27="Held at old sell"),H27,IF(LEFT(P27,15)="Approved, cappe",ROUND(ROUNDUP(ROUND(H27*1.1/0.05,6),0)*0.05,2),K27)) -> 66.2 | M27: =ROUND((H27-G27)/H27,3) -> 0.133 | N27: =IF(E27="Discontinued","",ROUND((L27-G27)/L27,3)) -> 0.21 | O27: =IF(E27="Discontinued","Archive",IF(AND(ROUND(K27/H27-1,6)<=0.1,K27-H27<=100),"Auto","Approval")) -> Auto | P27: Within rules | Q27: Competitive item, agreed margin 21% | R27: =IF(E27="Superseded",MID(INDEX('Import file'!$E$2:$E$1384,MATCH(A27,'Import file'!$A$2:$A$1384,0)),23,30),A27) -> EWA-1078 | S27: =IF(E27="Discontinued","",IFERROR(INDEX('Supplier file A'!$D$2:$D$677,MATCH(R27,'Supplier file A'!$A$2:$A$677,0)),IFERROR(INDEX('Supplier file B'!$D$2:$D$386,MATCH(R27,'Supplier file B'!$A$2:$A$386,0)),INDEX('Supplier file C'!$D$2:$D$383,MATCH(R27,'Supplier file C'!$A$2:$A$383,0))))) -> 52.27 | T27: =IF(E27="Discontinued","",IF(ABS(G27-S27)<0.005,"Yes","No")) -> Yes | U27: =IF(E27="Discontinued","",IF(ABS(F27-G27)<=0.01*G27,"Yes","No")) -> No | V27: =IF(E27="Discontinued","",K27/H27-1) -> 0.097844113 | W27: =IF(E27="Discontinued","Archived",IF(ROUND((L27-G27)/L27,3)>=ROUND(I27,3),"At or above target",IF(Q27<>"","Below target, reason recorded","Below target, no reason"))) -> Below target, reason recorded | X27: =IF(E27="Discontinued","",IF(ROUND(M27-I27,3)<-0.01,"Yes","No")) -> Yes
A28: EWA-1082 | B28: Meter panel, 3 phase, Range A | C28: Switchboards and enclosures | D28: Electrical wholesaler A | E28: Current | F28: 47.6 | G28: 51.68 | H28: 68 | I28: 0.3 | K28: =IF(E28="Discontinued",H28,ROUND(ROUNDUP(ROUND(G28/(1-IF(J28="",I28,J28))/0.05,6),0)*0.05,2)) -> 73.85 | L28: =IF(OR(E28="Discontinued",P28="Held at old sell"),H28,IF(LEFT(P28,15)="Approved, cappe",ROUND(ROUNDUP(ROUND(H28*1.1/0.05,6),0)*0.05,2),K28)) -> 73.85 | M28: =ROUND((H28-G28)/H28,3) -> 0.24 | N28: =IF(E28="Discontinued","",ROUND((L28-G28)/L28,3)) -> 0.3 | O28: =IF(E28="Discontinued","Archive",IF(AND(ROUND(K28/H28-1,6)<=0.1,K28-H28<=100),"Auto","Approval")) -> Auto | P28: Within rules | R28: =IF(E28="Superseded",MID(INDEX('Import file'!$E$2:$E$1384,MATCH(A28,'Import file'!$A$2:$A$1384,0)),23,30),A28) -> EWA-1082 | S28: =IF(E28="Discontinued","",IFERROR(INDEX('Supplier file A'!$D$2:$D$677,MATCH(R28,'Supplier file A'!$A$2:$A$677,0)),IFERROR(INDEX('Supplier file B'!$D$2:$D$386,MATCH(R28,'Supplier file B'!$A$2:$A$386,0)),INDEX('Supplier file C'!$D$2:$D$383,MATCH(R28,'Supplier file C'!$A$2:$A$383,0))))) -> 51.68 | T28: =IF(E28="Discontinued","",IF(ABS(G28-S28)<0.005,"Yes","No")) -> Yes | U28: =IF(E28="Discontinued","",IF(ABS(F28-G28)<=0.01*G28,"Yes","No")) -> No | V28: =IF(E28="Discontinued","",K28/H28-1) -> 0.086029412 | W28: =IF(E28="Discontinued","Archived",IF(ROUND((L28-G28)/L28,3)>=ROUND(I28,3),"At or above target",IF(Q28<>"","Below target, reason recorded","Below target, no reason"))) -> At or above target | X28: =IF(E28="Discontinued","",IF(ROUND(M28-I28,3)<-0.01,"Yes","No")) -> Yes
A29: EWA-1084 | B29: Meter panel, 3 phase, Range B | C29: Switchboards and enclosures | D29: Electrical wholesaler A | E29: Current | F29: 56 | G29: 60.75 | H29: 80 | I29: 0.3 | K29: =IF(E29="Discontinued",H29,ROUND(ROUNDUP(ROUND(G29/(1-IF(J29="",I29,J29))/0.05,6),0)*0.05,2)) -> 86.8 | L29: =IF(OR(E29="Discontinued",P29="Held at old sell"),H29,IF(LEFT(P29,15)="Approved, cappe",ROUND(ROUNDUP(ROUND(H29*1.1/0.05,6),0)*0.05,2),K29)) -> 86.8 | M29: =ROUND((H29-G29)/H29,3) -> 0.241 | N29: =IF(E29="Discontinued","",ROUND((L29-G29)/L29,3)) -> 0.3 | O29: =IF(E29="Discontinued","Archive",IF(AND(ROUND(K29/H29-1,6)<=0.1,K29-H29<=100),"Auto","Approval")) -> Auto | P29: Within rules | R29: =IF(E29="Superseded",MID(INDEX('Import file'!$E$2:$E$1384,MATCH(A29,'Import file'!$A$2:$A$1384,0)),23,30),A29) -> EWA-1084 | S29: =IF(E29="Discontinued","",IFERROR(INDEX('Supplier file A'!$D$2:$D$677,MATCH(R29,'Supplier file A'!$A$2:$A$677,0)),IFERROR(INDEX('Supplier file B'!$D$2:$D$386,MATCH(R29,'Supplier file B'!$A$2:$A$386,0)),INDEX('Supplier file C'!$D$2:$D$383,MATCH(R29,'Supplier file C'!$A$2:$A$383,0))))) -> 60.75 | T29: =IF(E29="Discontinued","",IF(ABS(G29-S29)<0.005,"Yes","No")) -> Yes | U29: =IF(E29="Discontinued","",IF(ABS(F29-G29)<=0.01*G29,"Yes","No")) -> No | V29: =IF(E29="Discontinued","",K29/H29-1) -> 0.085 | W29: =IF(E29="Discontinued","Archived",IF(ROUND((L29-G29)/L29,3)>=ROUND(I29,3),"At or above target",IF(Q29<>"","Below target, reason recorded","Below target, no reason"))) -> At or above target | X29: =IF(E29="Discontinued","",IF(ROUND(M29-I29,3)<-0.01,"Yes","No")) -> Yes
A30: EWA-1089 | B30: Main switch 2P 100A, Range B | C30: Switchboards and enclosures | D30: Electrical wholesaler A | E30: Current | F30: 44 | G30: 47.5 | H30: 62.9 | I30: 0.3 | K30: =IF(E30="Discontinued",H30,ROUND(ROUNDUP(ROUND(G30/(1-IF(J30="",I30,J30))/0.05,6),0)*0.05,2)) -> 67.9 | L30: =IF(OR(E30="Discontinued",P30="Held at old sell"),H30,IF(LEFT(P30,15)="Approved, cappe",ROUND(ROUNDUP(ROUND(H30*1.1/0.05,6),0)*0.05,2),K30)) -> 67.9 | M30: =ROUND((H30-G30)/H30,3) -> 0.245 | N30: =IF(E30="Discontinued","",ROUND((L30-G30)/L30,3)) -> 0.3 | O30: =IF(E30="Discontinued","Archive",IF(AND(ROUND(K30/H30-1,6)<=0.1,K30-H30<=100),"Auto","Approval")) -> Auto | P30: Within rules | R30: =IF(E30="Superseded",MID(INDEX('Import file'!$E$2:$E$1384,MATCH(A30,'Import file'!$A$2:$A$1384,0)),23,30),A30) -> EWA-1089 | S30: =IF(E30="Discontinued","",IFERROR(INDEX('Supplier file A'!$D$2:$D$677,MATCH(R30,'Supplier file A'!$A$2:$A$677,0)),IFERROR(INDEX('Supplier file B'!$D$2:$D$386,MATCH(R30,'Supplier file B'!$A$2:$A$386,0)),INDEX('Supplier file C'!$D$2:$D$383,MATCH(R30,'Supplier file C'!$A$2:$A$383,0))))) -> 47.5 | T30: =IF(E30="Discontinued","",IF(ABS(G30-S30)<0.005,"Yes","No")) -> Yes | U30: =IF(E30="Discontinued","",IF(ABS(F30-G30)<=0.01*G30,"Yes","No")) -> No | V30: =IF(E30="Discontinued","",K30/H30-1) -> 0.079491256 | W30: =IF(E30="Discontinued","Archived",IF(ROUND((L30-G30)/L30,3)>=ROUND(I30,3),"At or above target",IF(Q30<>"","Below target, reason recorded","Below target, no reason"))) -> At or above target | X30: =IF(E30="Discontinued","",IF(ROUND(M30-I30,3)<-0.01,"Yes","No")) -> Yes
A31: EWA-1090 | B31: DIN rail 35mm x 2m, slotted, Range D | C31: Switchboards and enclosures | D31: Electrical wholesaler A | E31: Current | F31: 14.85 | G31: 16.08 | H31: 21.25 | I31: 0.3 | K31: =IF(E31="Discontinued",H31,ROUND(ROUNDUP(ROUND(G31/(1-IF(J31="",I31,J31))/0.05,6),0)*0.05,2)) -> 23 | L31: =IF(OR(E31="Discontinued",P31="Held at old sell"),H31,IF(LEFT(P31,15)="Approved, cappe",ROUND(ROUNDUP(ROUND(H31*1.1/0.05,6),0)*0.05,2),K31)) -> 23 | M31: =ROUND((H31-G31)/H31,3) -> 0.243 | N31: =IF(E31="Discontinued","",ROUND((L31-G31)/L31,3)) -> 0.301 | O31: =IF(E31="Discontinued","Archive",IF(AND(ROUND(K31/H31-1,6)<=0.1,K31-H31<=100),"Auto","Approval")) -> Auto | P31: Within rules | R31: =IF(E31="Superseded",MID(INDEX('Import file'!$E$2:$E$1384,MATCH(A31,'Import file'!$A$2:$A$1384,0)),23,30),A31) -> EWA-1090 | S31: =IF(E31="Discontinued","",IFERROR(INDEX('Supplier file A'!$D$2:$D$677,MATCH(R31,'Supplier file A'!$A$2:$A$677,0)),IFERROR(INDEX('Supplier file B'!$D$2:$D$386,MATCH(R31,'Supplier file B'!$A$2:$A$386,0)),INDEX('Supplier file C'!$D$2:$D$383,MATCH(R31,'Supplier file C'!$A$2:$A$383,0))))) -> 16.08 | T31: =IF(E31="Discontinued","",IF(ABS(G31-S31)<0.005,"Yes","No")) -> Yes | U31: =IF(E31="Discontinued","",IF(ABS(F31-G31)<=0.01*G31,"Yes","No")) -> No | V31: =IF(E31="Discontinued","",K31/H31-1) -> 0.082352941 | W31: =IF(E31="Discontinued","Archived",IF(ROUND((L31-G31)/L31,3)>=ROUND(I31,3),"At or above target",IF(Q31<>"","Below target, reason recorded","Below target, no reason"))) -> At or above target | X31: =IF(E31="Discontinued","",IF(ROUND(M31-I31,3)<-0.01,"Yes","No")) -> Yes
A32: EWA-1093 | B32: Meter panel, 1 phase, Range C | C32: Switchboards and enclosures | D32: Electrical wholesaler A | E32: Current | F32: 39.1 | G32: 43.04 | H32: 55.9 | I32: 0.3 | K32: =IF(E32="Discontinued",H32,ROUND(ROUNDUP(ROUND(G32/(1-IF(J32="",I32,J32))/0.05,6),0)*0.05,2)) -> 61.5 | L32: =IF(OR(E32="Discontinued",P32="Held at old sell"),H32,IF(LEFT(P32,15)="Approved, cappe",ROUND(ROUNDUP(ROUND(H32*1.1/0.05,6),0)*0.05,2),K32)) -> 61.5 | M32: =ROUND((H32-G32)/H32,3) -> 0.23 | N32: =IF(E32="Discontinued","",ROUND((L32-G32)/L32,3)) -> 0.3 | O32: =IF(E32="Discontinued","Archive",IF(AND(ROUND(K32/H32-1,6)<=0.1,K32-H32<=100),"Auto","Approval")) -> Approval | P32: Approved as proposed | R32: =IF(E32="Superseded",MID(INDEX('Import file'!$E$2:$E$1384,MATCH(A32,'Import file'!$A$2:$A$1384,0)),23,30),A32) -> EWA-1093 | S32: =IF(E32="Discontinued","",IFERROR(INDEX('Supplier file A'!$D$2:$D$677,MATCH(R32,'Supplier file A'!$A$2:$A$677,0)),IFERROR(INDEX('Supplier file B'!$D$2:$D$386,MATCH(R32,'Supplier file B'!$A$2:$A$386,0)),INDEX('Supplier file C'!$D$2:$D$383,MATCH(R32,'Supplier file C'!$A$2:$A$383,0))))) -> 43.04 | T32: =IF(E32="Discontinued","",IF(ABS(G32-S32)<0.005,"Yes","No")) -> Yes | U32: =IF(E32="Discontinued","",IF(ABS(F32-G32)<=0.01*G32,"Yes","No")) -> No | V32: =IF(E32="Discontinued","",K32/H32-1) -> 0.10017889 | W32: =IF(E32="Discontinued","Archived",IF(ROUND((L32-G32)/L32,3)>=ROUND(I32,3),"At or above target",IF(Q32<>"","Below target, reason recorded","Below target, no reason"))) -> At or above target | X32: =IF(E32="Discontinued","",IF(ROUND(M32-I32,3)<-0.01,"Yes","No")) -> Yes
A33: EWA-1096 | B33: Terminal block 35mm², 10 pack, Range D | C33: Switchboards and enclosures | D33: Electrical wholesaler A | E33: Current | F33: 37.8 | G33: 41.37 | H33: 54 | I33: 0.3 | K33: =IF(E33="Discontinued",H33,ROUND(ROUNDUP(ROUND(G33/(1-IF(J33="",I33,J33))/0.05,6),0)*0.05,2)) -> 59.1 | L33: =IF(OR(E33="Discontinued",P33="Held at old sell"),H33,IF(LEFT(P33,15)="Approved, cappe",ROUND(ROUNDUP(ROUND(H33*1.1/0.05,6),0)*0.05,2),K33)) -> 59.1 | M33: =ROUND((H33-G33)/H33,3) -> 0.234 | N33: =IF(E33="Discontinued","",ROUND((L33-G33)/L33,3)) -> 0.3 | O33: =IF(E33="Discontinued","Archive",IF(AND(ROUND(K33/H33-1,6)<=0.1,K33-H33<=100),"Auto","Approval")) -> Auto | P33: Within rules | R33: =IF(E33="Superseded",MID(INDEX('Import file'!$E$2:$E$1384,MATCH(A33,'Import file'!$A$2:$A$1384,0)),23,30),A33) -> EWA-1096 | S33: =IF(E33="Discontinued","",IFERROR(INDEX('Supplier file A'!$D$2:$D$677,MATCH(R33,'Supplier file A'!$A$2:$A$677,0)),IFERROR(INDEX('Supplier file B'!$D$2:$D$386,MATCH(R33,'Supplier file B'!$A$2:$A$386,0)),INDEX('Supplier file C'!$D$2:$D$383,MATCH(R33,'Supplier file C'!$A$2:$A$383,0))))) -> 41.37 | T33: =IF(E33="Discontinued","",IF(ABS(G33-S33)<0.005,"Yes","No")) -> Yes | U33: =IF(E33="Discontinued","",IF(ABS(F33-G33)<=0.01*G33,"Yes","No")) -> No | V33: =IF(E33="Discontinued","",K33/H33-1) -> 0.094444444 | W33: =IF(E33="Discontinued","Archived",IF(ROUND((L33-G33)/L33,3)>=ROUND(I33,3),"At or above target",IF(Q33<>"","Below target, reason recorded","Below target, no reason"))) -> At or above target | X33: =IF(E33="Discontinued","",IF(ROUND(M33-I33,3)<-0.01,"Yes","No")) -> Yes
