Workbook

Sheet Cover
A1: QuickBooks Online to Xero migration with a balance tie-out (joinery and shopfitting)
A2: Work sample: realistic data, built to show how I approach this work.
A4: Scenario | B4: Melbourne joinery and shopfitting business, accrual GST, moving from QBO to Xero. Conversion date 30 Sep 2026; Xero from 1 Oct 2026
A5: Inputs | B5: QBO chart of accounts, general ledger (Jun-Sep 2026), trial balances at 30 Jun and 30 Sep, customers, suppliers, products and services, aged receivables and payables detail, bank statement balances
A6: Outputs | B6: Account and tax mapping, contact de-duplication, Xero import files (chart, contacts, items, open invoices and bills, bank items, conversion balances) and an account-by-account tie-out
A7: Method | B7: Open invoices and bills are imported at their open balance, BAS Excluded, coded to 855 Conversion clearing; its conversion balance is the exact opposite, so it reads 0 once they are in. Agree the method with your accountant.
A8: GST | B8: Sep-quarter GST figures come from QBO and are handed to your BAS agent or accountant. Nothing in Xero is dated before 1 Oct except the open items and bank items above.
A9: How to use | B9: Change a mapping, a journal or an open item on its tab and the tie-out, gates and Controls update.
A11: Sheets
A12: Dashboard | B12: Headline figures, every one a formula
A13: Data Profile | B13: What the QBO exports hold
A14: QBO GL | B14: QBO general ledger: 30 Jun 2026 balances and Jul-Sep 2026 transactions
A15: TB Roll-forward | B15: 30 Jun TB + Jul-Sep movements = the 30 Sep TB QBO exported
A16: Account Map | B16: Every QBO account mapped to a Xero code
A17: Xero Chart | B17: The Xero chart of accounts to import
A18: Tax Review | B18: Accounts whose QBO default tax code changes in Xero
A19: Contacts | B19: Every QBO customer and supplier record and the Xero contact it becomes
A20: Xero Contacts | B20: One contact per business (customers and suppliers together)
A21: Items | B21: Products and services mapped to Xero accounts
A22: Open AR | B22: Open invoices, credit memos and unapplied payments at 30 Sep 2026, as Xero import rows
A23: Open AP | B23: Open bills and supplier credits at 30 Sep 2026
... A37: Test Log | B37: Engine tests against the answer key

Sheet Dashboard
A1: Dashboard (all formulas)
A2: Work sample: realistic data, built to show how I approach this work.
A4: Area | B4: Measure | C4: Value
A5: Scope | B5: QBO accounts | C5: =COUNTA('Account Map'!$A$5:$A$90) -> 86
A6: Scope | B6: Xero accounts | C6: =COUNTA('Xero Chart'!$A$5:$A$79) -> 75
A7: Scope | B7: Jul-Sep sales (ex GST, before J1) | C7: =-(SUMIFS('QBO GL'!$G$5:$G$3941,'QBO GL'!$F$5:$F$3941,"Joinery sales",'QBO GL'!$B$5:$B$3941,">"&DATE(2026,6,30))+SUMIFS('QBO GL'!$G$5:$G$3941,'QBO GL'!$F$5:$F$3941,"Shopfitting contracts",'QBO GL'!$B$5:$B$3941,">"&DATE(2026,6,30))+SUMIFS('QBO GL'!$G$5:$G$3941,'QBO GL'!$F$5:$F$3941,"Installation labour",'QBO GL'!$B$5:$B$3941,">"&DATE(2026,6,30))+SUMIFS('QBO GL'!$G$5:$G$3941,'QBO GL'!$F$5:$F$3941,"Design & drafting fees",'QBO GL'!$B$5:$B$3941,">"&DATE(2026,6,30))) -> 1259052.4
A8: Contacts | B8: QBO customer and supplier records | C8: =COUNTA('Contacts'!$A$5:$A$484) -> 480
A9: Contacts | B9: Xero contacts | C9: =COUNTA('Xero Contacts'!$A$5:$A$453) -> 449
A10: Contacts | B10: Duplicates merged | C10: =COUNTIF('Contacts'!$G$5:$G$484,"Merge*") -> 31
A11: Contacts | B11: of which customer and supplier records of one business | C11: =COUNTIFS('Contacts'!$G$5:$G$484,"Merge*",'Contacts'!$B$5:$B$484,"Supplier",'Contacts'!$F$5:$F$484,"C*") -> 9
A12: Open items | B12: Open receivables (Xero aged receivables at 30 Sep) | C12: =SUM('Open AR'!$K$5:$K$139) -> 742980.26
A13: Open items | B13: Open payables | C13: =-SUM('Open AP'!$K$5:$K$194) -> 221290.43
A14: Open items | B14: Open items moved onto a merged contact | C14: =COUNTIF('Open AR'!$J$5:$J$139,"Yes")+COUNTIF('Open AP'!$J$5:$J$194,"Yes") -> 2
A15: Clean-up | B15: Receipts counted twice | C15: =COUNTIF('Undeposited Funds'!$F$5:$F$8,"Banked*") -> 4
A16: Clean-up | B16: amount (incl GST) | C16: =SUMIFS('Undeposited Funds'!$D$5:$D$8,'Undeposited Funds'!$F$5:$F$8,"Banked*") -> 26618.67
A17: Clean-up | B17: income overstated (ex GST) | C17: =SUM('Undeposited Funds'!$I$5:$I$8) -> 24198.79
A18: Clean-up | B18: GST overstated | C18: =SUM('Undeposited Funds'!$J$5:$J$8) -> 2419.88
A19: Clean-up | B19: Uncategorised lines recoded by payee rule | C19: =COUNTIF('Uncategorised'!$E$5:$E$18,"?*") -> 11
A20: Clean-up | B20: Uncategorised lines for the owner | C20: =COUNTIF('Uncategorised'!$E$5:$E$18,"") -> 3
A21: Clean-up | B21: GST credits found on recoded lines | C21: =SUM('Uncategorised'!$H$5:$H$18) -> 390.8
A22: Clean-up | B22: Opening Balance Equity cleared | C22: =-SUMIFS('Pre-cutover Journals'!$D$5:$D$51,'Pre-cutover Journals'!$C$5:$C$51,"Retained Earnings") -> 3412.5
A23: Tax | B23: Default tax codes changed | C23: =COUNTA('Tax Review'!$A$5:$A$12) -> 8
A24: Bank | B24: Unreconciled bank items carried in | C24: =COUNTA('Bank Items'!$A$5:$A$26) -> 22
A25: Bank | B25: over 30 days old | C25: =COUNTIF('Bank Items'!$I$5:$I$26,">30") -> 2
A26: Tie-out | B26: Accounts where Xero differs from QBO | C26: =SUMPRODUCT(--(ABS('Xero TB Check'!$I$5:$I$79)>0.005)) -> 0
A27: Tie-out | B27: Conversion balances total | C27: =ROUND(SUM('Conversion Balances'!$E$5:$E$79),2) -> 0
A28: Cutover | B28: Gates passed (of 10) | C28: =COUNTIF('Cutover Checklist'!$F$5:$F$14,"PASS") -> 8
A29: Exceptions | B29: Open exceptions | C29: =COUNTIF('Exceptions'!$G$5:$G$23,"Open") -> 19
A30: Controls | B30: Controls passed | C30: =Controls!C42 -> 36

Sheet Xero Chart
A1: Xero chart of accounts (import file)
A2: Work sample: realistic data, built to show how I approach this work.
A4: Code | B4: Name | C4: Type | D4: Default tax | E4: QBO accounts mapped | F4: Adjusted balance
A5: 090 | B5: Business Cheque Account | C5: BANK | D5: BAS Excluded | E5: =COUNTIF('Account Map'!$E$5:$E$90,A5) -> 1 | F5: =SUMIFS('Adjusted TB'!$E$5:$E$90,'Adjusted TB'!$F$5:$F$90,A5) -> 504301.08
A6: 091 | B6: Business Savings Account | C6: BANK | D6: BAS Excluded | E6: =COUNTIF('Account Map'!$E$5:$E$90,A6) -> 1 | F6: =SUMIFS('Adjusted TB'!$E$5:$E$90,'Adjusted TB'!$F$5:$F$90,A6) -> 61620
A7: 092 | B7: Business Visa | C7: BANK | D7: BAS Excluded | E7: =COUNTIF('Account Map'!$E$5:$E$90,A7) -> 1 | F7: =SUMIFS('Adjusted TB'!$E$5:$E$90,'Adjusted TB'!$F$5:$F$90,A7) -> -30589.41
A8: 610 | B8: Accounts Receivable | C8: CURRENT | D8: BAS Excluded | E8: =COUNTIF('Account Map'!$E$5:$E$90,A8) -> 1 | F8: =SUMIFS('Adjusted TB'!$E$5:$E$90,'Adjusted TB'!$F$5:$F$90,A8) -> 742980.26
A9: 615 | B9: Undeposited payments (clearing) | C9: CURRENT | D9: BAS Excluded | E9: =COUNTIF('Account Map'!$E$5:$E$90,A9) -> 1 | F9: =SUMIFS('Adjusted TB'!$E$5:$E$90,'Adjusted TB'!$F$5:$F$90,A9) -> 0
A10: 620 | B10: Prepayments | C10: CURRENT | D10: BAS Excluded | E10: =COUNTIF('Account Map'!$E$5:$E$90,A10) -> 2 | F10: =SUMIFS('Adjusted TB'!$E$5:$E$90,'Adjusted TB'!$F$5:$F$90,A10) -> 8690
A11: 630 | B11: Inventory | C11: INVENTORY | D11: BAS Excluded | E11: =COUNTIF('Account Map'!$E$5:$E$90,A11) -> 1 | F11: =SUMIFS('Adjusted TB'!$E$5:$E$90,'Adjusted TB'!$F$5:$F$90,A11) -> 38420.55
A12: 631 | B12: Work in progress | C12: CURRENT | D12: BAS Excluded | E12: =COUNTIF('Account Map'!$E$5:$E$90,A12) -> 1 | F12: =SUMIFS('Adjusted TB'!$E$5:$E$90,'Adjusted TB'!$F$5:$F$90,A12) -> 22150
A13: 632 | B13: Rental bond | C13: CURRENT | D13: BAS Excluded | E13: =COUNTIF('Account Map'!$E$5:$E$90,A13) -> 1 | F13: =SUMIFS('Adjusted TB'!$E$5:$E$90,'Adjusted TB'!$F$5:$F$90,A13) -> 18000
A14: 710 | B14: Plant and equipment | C14: FIXED | D14: GST on Capital | E14: =COUNTIF('Account Map'!$E$5:$E$90,A14) -> 1 | F14: =SUMIFS('Adjusted TB'!$E$5:$E$90,'Adjusted TB'!$F$5:$F$90,A14) -> 286400
A15: 711 | B15: Less accumulated depreciation on plant and equipment | C15: FIXED | D15: BAS Excluded | E15: =COUNTIF('Account Map'!$E$5:$E$90,A15) -> 1 | F15: =SUMIFS('Adjusted TB'!$E$5:$E$90,'Adjusted TB'!$F$5:$F$90,A15) -> -126810
A16: 720 | B16: Motor vehicles | C16: FIXED | D16: GST on Capital | E16: =COUNTIF('Account Map'!$E$5:$E$90,A16) -> 1 | F16: =SUMIFS('Adjusted TB'!$E$5:$E$90,'Adjusted TB'!$F$5:$F$90,A16) -> 142500
... A79: 497 | B79: Fines and penalties | C79: EXPENSE | D79: BAS Excluded | E79: =COUNTIF('Account Map'!$E$5:$E$90,A79) -> 1 | F79: =SUMIFS('Adjusted TB'!$E$5:$E$90,'Adjusted TB'!$F$5:$F$90,A79) -> 0

Sheet Account Map
A1: QBO account to Xero code (rules in engine.py; edit column E to change a mapping)
A2: Work sample: realistic data, built to show how I approach this work.
A4: QBO account | B4: QBO type | C4: Active | D4: QBO default tax | E4: Xero code | F4: Xero name | G4: Xero type | H4: Xero default tax | I4: Tax changes | J4: Type fits | K4: Balance 30 Sep | L4: Note
A5: ANZ Business Cheque | B5: Bank | C5: Yes | D5: (none) | E5: 090 | F5: =INDEX('Xero Chart'!$B$5:$B$79,MATCH(E5,'Xero Chart'!$A$5:$A$79,0)) -> Business Cheque Account | G5: =INDEX('Xero Chart'!$C$5:$C$79,MATCH(E5,'Xero Chart'!$A$5:$A$79,0)) -> BANK | H5: =INDEX('Xero Chart'!$D$5:$D$79,MATCH(E5,'Xero Chart'!$A$5:$A$79,0)) -> BAS Excluded | I5: No | J5: 1 | K5: =INDEX('TB Roll-forward'!$E$5:$E$90,MATCH(A5,'TB Roll-forward'!$A$5:$A$90,0)) -> 504301.08
A6: ANZ Online Saver | B6: Bank | C6: Yes | D6: (none) | E6: 091 | F6: =INDEX('Xero Chart'!$B$5:$B$79,MATCH(E6,'Xero Chart'!$A$5:$A$79,0)) -> Business Savings Account | G6: =INDEX('Xero Chart'!$C$5:$C$79,MATCH(E6,'Xero Chart'!$A$5:$A$79,0)) -> BANK | H6: =INDEX('Xero Chart'!$D$5:$D$79,MATCH(E6,'Xero Chart'!$A$5:$A$79,0)) -> BAS Excluded | I6: No | J6: 1 | K6: =INDEX('TB Roll-forward'!$E$5:$E$90,MATCH(A6,'TB Roll-forward'!$A$5:$A$90,0)) -> 61620
A7: Undeposited Funds | B7: Other Current Assets | C7: Yes | D7: (none) | E7: 615 | F7: =INDEX('Xero Chart'!$B$5:$B$79,MATCH(E7,'Xero Chart'!$A$5:$A$79,0)) -> Undeposited payments (clearing) | G7: =INDEX('Xero Chart'!$C$5:$C$79,MATCH(E7,'Xero Chart'!$A$5:$A$79,0)) -> CURRENT | H7: =INDEX('Xero Chart'!$D$5:$D$79,MATCH(E7,'Xero Chart'!$A$5:$A$79,0)) -> BAS Excluded | I7: No | J7: 1 | K7: =INDEX('TB Roll-forward'!$E$5:$E$90,MATCH(A7,'TB Roll-forward'!$A$5:$A$90,0)) -> 26618.67
A8: Accounts Receivable (A/R) | B8: Accounts receivable (A/R) | C8: Yes | D8: (none) | E8: 610 | F8: =INDEX('Xero Chart'!$B$5:$B$79,MATCH(E8,'Xero Chart'!$A$5:$A$79,0)) -> Accounts Receivable | G8: =INDEX('Xero Chart'!$C$5:$C$79,MATCH(E8,'Xero Chart'!$A$5:$A$79,0)) -> CURRENT | H8: =INDEX('Xero Chart'!$D$5:$D$79,MATCH(E8,'Xero Chart'!$A$5:$A$79,0)) -> BAS Excluded | I8: No | J8: 1 | K8: =INDEX('TB Roll-forward'!$E$5:$E$90,MATCH(A8,'TB Roll-forward'!$A$5:$A$90,0)) -> 742980.26
A9: Prepayments | B9: Other Current Assets | C9: Yes | D9: (none) | E9: 620 | F9: =INDEX('Xero Chart'!$B$5:$B$79,MATCH(E9,'Xero Chart'!$A$5:$A$79,0)) -> Prepayments | G9: =INDEX('Xero Chart'!$C$5:$C$79,MATCH(E9,'Xero Chart'!$A$5:$A$79,0)) -> CURRENT | H9: =INDEX('Xero Chart'!$D$5:$D$79,MATCH(E9,'Xero Chart'!$A$5:$A$79,0)) -> BAS Excluded | I9: No | J9: 1 | K9: =INDEX('TB Roll-forward'!$E$5:$E$90,MATCH(A9,'TB Roll-forward'!$A$5:$A$90,0)) -> 6840 | L9: Merged with other QBO accounts
A10: Prepaid insurance (old) | B10: Other Current Assets | C10: No | D10: (none) | E10: 620 | F10: =INDEX('Xero Chart'!$B$5:$B$79,MATCH(E10,'Xero Chart'!$A$5:$A$79,0)) -> Prepayments | G10: =INDEX('Xero Chart'!$C$5:$C$79,MATCH(E10,'Xero Chart'!$A$5:$A$79,0)) -> CURRENT | H10: =INDEX('Xero Chart'!$D$5:$D$79,MATCH(E10,'Xero Chart'!$A$5:$A$79,0)) -> BAS Excluded | I10: No | J10: 1 | K10: =INDEX('TB Roll-forward'!$E$5:$E$90,MATCH(A10,'TB Roll-forward'!$A$5:$A$90,0)) -> 1850 | L10: Inactive in QBO but holds a balance; Merged with other QBO accounts
A11: Stock on hand | B11: Other Current Assets | C11: Yes | D11: (none) | E11: 630 | F11: =INDEX('Xero Chart'!$B$5:$B$79,MATCH(E11,'Xero Chart'!$A$5:$A$79,0)) -> Inventory | G11: =INDEX('Xero Chart'!$C$5:$C$79,MATCH(E11,'Xero Chart'!$A$5:$A$79,0)) -> INVENTORY | H11: =INDEX('Xero Chart'!$D$5:$D$79,MATCH(E11,'Xero Chart'!$A$5:$A$79,0)) -> BAS Excluded | I11: No | J11: 1 | K11: =INDEX('TB Roll-forward'!$E$5:$E$90,MATCH(A11,'TB Roll-forward'!$A$5:$A$90,0)) -> 38420.55
A12: Work in progress | B12: Other Current Assets | C12: Yes | D12: (none) | E12: 631 | F12: =INDEX('Xero Chart'!$B$5:$B$79,MATCH(E12,'Xero Chart'!$A$5:$A$79,0)) -> Work in progress | G12: =INDEX('Xero Chart'!$C$5:$C$79,MATCH(E12,'Xero Chart'!$A$5:$A$79,0)) -> CURRENT | H12: =INDEX('Xero Chart'!$D$5:$D$79,MATCH(E12,'Xero Chart'!$A$5:$A$79,0)) -> BAS Excluded | I12: No | J12: 1 | K12: =INDEX('TB Roll-forward'!$E$5:$E$90,MATCH(A12,'TB Roll-forward'!$A$5:$A$90,0)) -> 22150
A13: Rental bond | B13: Other Current Assets | C13: Yes | D13: (none) | E13: 632 | F13: =INDEX('Xero Chart'!$B$5:$B$79,MATCH(E13,'Xero Chart'!$A$5:$A$79,0)) -> Rental bond | G13: =INDEX('Xero Chart'!$C$5:$C$79,MATCH(E13,'Xero Chart'!$A$5:$A$79,0)) -> CURRENT | H13: =INDEX('Xero Chart'!$D$5:$D$79,MATCH(E13,'Xero Chart'!$A$5:$A$79,0)) -> BAS Excluded | I13: No | J13: 1 | K13: =INDEX('TB Roll-forward'!$E$5:$E$90,MATCH(A13,'TB Roll-forward'!$A$5:$A$90,0)) -> 18000
A14: Plant & equipment | B14: Fixed Assets | C14: Yes | D14: (none) | E14: 710 | F14: =INDEX('Xero Chart'!$B$5:$B$79,MATCH(E14,'Xero Chart'!$A$5:$A$79,0)) -> Plant and equipment | G14: =INDEX('Xero Chart'!$C$5:$C$79,MATCH(E14,'Xero Chart'!$A$5:$A$79,0)) -> FIXED | H14: =INDEX('Xero Chart'!$D$5:$D$79,MATCH(E14,'Xero Chart'!$A$5:$A$79,0)) -> GST on Capital | I14: No | J14: 1 | K14: =INDEX('TB Roll-forward'!$E$5:$E$90,MATCH(A14,'TB Roll-forward'!$A$5:$A$90,0)) -> 286400
A15: Plant & equipment:Accumulated depreciation | B15: Fixed Assets | C15: Yes | D15: (none) | E15: 711 | F15: =INDEX('Xero Chart'!$B$5:$B$79,MATCH(E15,'Xero Chart'!$A$5:$A$79,0)) -> Less accumulated depreciation on plant and equipment | G15: =INDEX('Xero Chart'!$C$5:$C$79,MATCH(E15,'Xero Chart'!$A$5:$A$79,0)) -> FIXED | H15: =INDEX('Xero Chart'!$D$5:$D$79,MATCH(E15,'Xero Chart'!$A$5:$A$79,0)) -> BAS Excluded | I15: No | J15: 1 | K15: =INDEX('TB Roll-forward'!$E$5:$E$90,MATCH(A15,'TB Roll-forward'!$A$5:$A$90,0)) -> -126810 | L15: QBO sub-account flattened
A16: Motor vehicles | B16: Fixed Assets | C16: Yes | D16: (none) | E16: 720 | F16: =INDEX('Xero Chart'!$B$5:$B$79,MATCH(E16,'Xero Chart'!$A$5:$A$79,0)) -> Motor vehicles | G16: =INDEX('Xero Chart'!$C$5:$C$79,MATCH(E16,'Xero Chart'!$A$5:$A$79,0)) -> FIXED | H16: =INDEX('Xero Chart'!$D$5:$D$79,MATCH(E16,'Xero Chart'!$A$5:$A$79,0)) -> GST on Capital | I16: No | J16: 1 | K16: =INDEX('TB Roll-forward'!$E$5:$E$90,MATCH(A16,'TB Roll-forward'!$A$5:$A$90,0)) -> 142500
A17: Motor vehicles:Accumulated depreciation | B17: Fixed Assets | C17: Yes | D17: (none) | E17: 721 | F17: =INDEX('Xero Chart'!$B$5:$B$79,MATCH(E17,'Xero Chart'!$A$5:$A$79,0)) -> Less accumulated depreciation on motor vehicles | G17: =INDEX('Xero Chart'!$C$5:$C$79,MATCH(E17,'Xero Chart'!$A$5:$A$79,0)) -> FIXED | H17: =INDEX('Xero Chart'!$D$5:$D$79,MATCH(E17,'Xero Chart'!$A$5:$A$79,0)) -> BAS Excluded | I17: No | J17: 1 | K17: =INDEX('TB Roll-forward'!$E$5:$E$90,MATCH(A17,'TB Roll-forward'!$A$5:$A$90,0)) -> -66925 | L17: QBO sub-account flattened
A18: Computer equipment | B18: Fixed Assets | C18: Yes | D18: (none) | E18: 730 | F18: =INDEX('Xero Chart'!$B$5:$B$79,MATCH(E18,'Xero Chart'!$A$5:$A$79,0)) -> Computer equipment | G18: =INDEX('Xero Chart'!$C$5:$C$79,MATCH(E18,'Xero Chart'!$A$5:$A$79,0)) -> FIXED | H18: =INDEX('Xero Chart'!$D$5:$D$79,MATCH(E18,'Xero Chart'!$A$5:$A$79,0)) -> GST on Capital | I18: No | J18: 1 | K18: =INDEX('TB Roll-forward'!$E$5:$E$90,MATCH(A18,'TB Roll-forward'!$A$5:$A$90,0)) -> 18640
A19: Accum. depn - computers | B19: Fixed Assets | C19: Yes | D19: (none) | E19: 731 | F19: =INDEX('Xero Chart'!$B$5:$B$79,MATCH(E19,'Xero Chart'!$A$5:$A$79,0)) -> Less accumulated depreciation on computer equipment | G19: =INDEX('Xero Chart'!$C$5:$C$79,MATCH(E19,'Xero Chart'!$A$5:$A$79,0)) -> FIXED | H19: =INDEX('Xero Chart'!$D$5:$D$79,MATCH(E19,'Xero Chart'!$A$5:$A$79,0)) -> BAS Excluded | I19: No | J19: 1 | K19: =INDEX('TB Roll-forward'!$E$5:$E$90,MATCH(A19,'TB Roll-forward'!$A$5:$A$90,0)) -> -12029
A20: Accounts Payable (A/P) | B20: Accounts payable (A/P) | C20: Yes | D20: (none) | E20: 800 | F20: =INDEX('Xero Chart'!$B$5:$B$79,MATCH(E20,'Xero Chart'!$A$5:$A$79,0)) -> Accounts Payable | G20: =INDEX('Xero Chart'!$C$5:$C$79,MATCH(E20,'Xero Chart'!$A$5:$A$79,0)) -> CURRLIAB | H20: =INDEX('Xero Chart'!$D$5:$D$79,MATCH(E20,'Xero Chart'!$A$5:$A$79,0)) -> BAS Excluded | I20: No | J20: 1 | K20: =INDEX('TB Roll-forward'!$E$5:$E$90,MATCH(A20,'TB Roll-forward'!$A$5:$A$90,0)) -> -221290.43
A21: ANZ Business Visa | B21: Credit Card | C21: Yes | D21: (none) | E21: 092 | F21: =INDEX('Xero Chart'!$B$5:$B$79,MATCH(E21,'Xero Chart'!$A$5:$A$79,0)) -> Business Visa | G21: =INDEX('Xero Chart'!$C$5:$C$79,MATCH(E21,'Xero Chart'!$A$5:$A$79,0)) -> BANK | H21: =INDEX('Xero Chart'!$D$5:$D$79,MATCH(E21,'Xero Chart'!$A$5:$A$79,0)) -> BAS Excluded | I21: No | J21: 1 | K21: =INDEX('TB Roll-forward'!$E$5:$E$90,MATCH(A21,'TB Roll-forward'!$A$5:$A$90,0)) -> -30589.41
A22: GST Payable | B22: Other Current Liabilities | C22: Yes | D22: (none) | E22: 820 | F22: =INDEX('Xero Chart'!$B$5:$B$79,MATCH(E22,'Xero Chart'!$A$5:$A$79,0)) -> GST | G22: =INDEX('Xero Chart'!$C$5:$C$79,MATCH(E22,'Xero Chart'!$A$5:$A$79,0)) -> CURRLIAB | H22: =INDEX('Xero Chart'!$D$5:$D$79,MATCH(E22,'Xero Chart'!$A$5:$A$79,0)) -> BAS Excluded | I22: No | J22: 1 | K22: =INDEX('TB Roll-forward'!$E$5:$E$90,MATCH(A22,'TB Roll-forward'!$A$5:$A$90,0)) -> -69835.29 | L22: Merged with other QBO accounts
A23: GST Liabilities Payable | B23: Other Current Liabilities | C23: Yes | D23: (none) | E23: 820 | F23: =INDEX('Xero Chart'!$B$5:$B$79,MATCH(E23,'Xero Chart'!$A$5:$A$79,0)) -> GST | G23: =INDEX('Xero Chart'!$C$5:$C$79,MATCH(E23,'Xero Chart'!$A$5:$A$79,0)) -> CURRLIAB | H23: =INDEX('Xero Chart'!$D$5:$D$79,MATCH(E23,'Xero Chart'!$A$5:$A$79,0)) -> BAS Excluded | I23: No | J23: 1 | K23: =INDEX('TB Roll-forward'!$E$5:$E$90,MATCH(A23,'TB Roll-forward'!$A$5:$A$90,0)) -> 0 | L23: Merged with other QBO accounts
A24: PAYG Withholdings Payable | B24: Other Current Liabilities | C24: Yes | D24: (none) | E24: 825 | F24: =INDEX('Xero Chart'!$B$5:$B$79,MATCH(E24,'Xero Chart'!$A$5:$A$79,0)) -> PAYG Withholdings Payable | G24: =INDEX('Xero Chart'!$C$5:$C$79,MATCH(E24,'Xero Chart'!$A$5:$A$79,0)) -> CURRLIAB | H24: =INDEX('Xero Chart'!$D$5:$D$79,MATCH(E24,'Xero Chart'!$A$5:$A$79,0)) -> BAS Excluded | I24: No | J24: 1 | K24: =INDEX('TB Roll-forward'!$E$5:$E$90,MATCH(A24,'TB Roll-forward'!$A$5:$A$90,0)) -> -36892.08
A25: Superannuation Payable | B25: Other Current Liabilities | C25: Yes | D25: (none) | E25: 826 | F25: =INDEX('Xero Chart'!$B$5:$B$79,MATCH(E25,'Xero Chart'!$A$5:$A$79,0)) -> Superannuation Payable | G25: =INDEX('Xero Chart'!$C$5:$C$79,MATCH(E25,'Xero Chart'!$A$5:$A$79,0)) -> CURRLIAB | H25: =INDEX('Xero Chart'!$D$5:$D$79,MATCH(E25,'Xero Chart'!$A$5:$A$79,0)) -> BAS Excluded | I25: No | J25: 1 | K25: =INDEX('TB Roll-forward'!$E$5:$E$90,MATCH(A25,'TB Roll-forward'!$A$5:$A$90,0)) -> -23300.25
A26: Accrued expenses | B26: Other Current Liabilities | C26: Yes | D26: (none) | E26: 827 | F26: =INDEX('Xero Chart'!$B$5:$B$79,MATCH(E26,'Xero Chart'!$A$5:$A$79,0)) -> Accrued expenses | G26: =INDEX('Xero Chart'!$C$5:$C$79,MATCH(E26,'Xero Chart'!$A$5:$A$79,0)) -> CURRLIAB | H26: =INDEX('Xero Chart'!$D$5:$D$79,MATCH(E26,'Xero Chart'!$A$5:$A$79,0)) -> BAS Excluded | I26: No | J26: 1 | K26: =INDEX('TB Roll-forward'!$E$5:$E$90,MATCH(A26,'TB Roll-forward'!$A$5:$A$90,0)) -> -4200
A27: Customer deposits | B27: Other Current Liabilities | C27: Yes | D27: (none) | E27: 835 | F27: =INDEX('Xero Chart'!$B$5:$B$79,MATCH(E27,'Xero Chart'!$A$5:$A$79,0)) -> Customer deposits | G27: =INDEX('Xero Chart'!$C$5:$C$79,MATCH(E27,'Xero Chart'!$A$5:$A$79,0)) -> CURRLIAB | H27: =INDEX('Xero Chart'!$D$5:$D$79,MATCH(E27,'Xero Chart'!$A$5:$A$79,0)) -> BAS Excluded | I27: No | J27: 1 | K27: =INDEX('TB Roll-forward'!$E$5:$E$90,MATCH(A27,'TB Roll-forward'!$A$5:$A$90,0)) -> -36500
A28: Equipment loan - Westpac | B28: Long Term Liabilities | C28: Yes | D28: (none) | E28: 900 | F28: =INDEX('Xero Chart'!$B$5:$B$79,MATCH(E28,'Xero Chart'!$A$5:$A$79,0)) -> Equipment loan | G28: =INDEX('Xero Chart'!$C$5:$C$79,MATCH(E28,'Xero Chart'!$A$5:$A$79,0)) -> TERMLIAB | H28: =INDEX('Xero Chart'!$D$5:$D$79,MATCH(E28,'Xero Chart'!$A$5:$A$79,0)) -> BAS Excluded | I28: No | J28: 1 | K28: =INDEX('TB Roll-forward'!$E$5:$E$90,MATCH(A28,'TB Roll-forward'!$A$5:$A$90,0)) -> -90760.6
A29: Vehicle finance | B29: Long Term Liabilities | C29: Yes | D29: (none) | E29: 901 | F29: =INDEX('Xero Chart'!$B$5:$B$79,MATCH(E29,'Xero Chart'!$A$5:$A$79,0)) -> Vehicle finance | G29: =INDEX('Xero Chart'!$C$5:$C$79,MATCH(E29,'Xero Chart'!$A$5:$A$79,0)) -> TERMLIAB | H29: =INDEX('Xero Chart'!$D$5:$D$79,MATCH(E29,'Xero Chart'!$A$5:$A$79,0)) -> BAS Excluded | I29: No | J29: 1 | K29: =INDEX('TB Roll-forward'!$E$5:$E$90,MATCH(A29,'TB Roll-forward'!$A$5:$A$90,0)) -> -54395.8
A30: Opening Balance Equity | B30: Equity | C30: Yes | D30: (none) | E30: 960 | F30: =INDEX('Xero Chart'!$B$5:$B$79,MATCH(E30,'Xero Chart'!$A$5:$A$79,0)) -> Retained Earnings | G30: =INDEX('Xero Chart'!$C$5:$C$79,MATCH(E30,'Xero Chart'!$A$5:$A$79,0)) -> EQUITY | H30: =INDEX('Xero Chart'!$D$5:$D$79,MATCH(E30,'Xero Chart'!$A$5:$A$79,0)) -> BAS Excluded | I30: No | J30: 1 | K30: =INDEX('TB Roll-forward'!$E$5:$E$90,MATCH(A30,'TB Roll-forward'!$A$5:$A$90,0)) -> -3412.5 | L30: Merged with other QBO accounts
A31: Retained Earnings | B31: Equity | C31: Yes | D31: (none) | E31: 960 | F31: =INDEX('Xero Chart'!$B$5:$B$79,MATCH(E31,'Xero Chart'!$A$5:$A$79,0)) -> Retained Earnings | G31: =INDEX('Xero Chart'!$C$5:$C$79,MATCH(E31,'Xero Chart'!$A$5:$A$79,0)) -> EQUITY | H31: =INDEX('Xero Chart'!$D$5:$D$79,MATCH(E31,'Xero Chart'!$A$5:$A$79,0)) -> BAS Excluded | I31: No | J31: 1 | K31: =INDEX('TB Roll-forward'!$E$5:$E$90,MATCH(A31,'TB Roll-forward'!$A$5:$A$90,0)) -> -651850.49 | L31: Merged with other QBO accounts
A32: Owner's drawings | B32: Equity | C32: Yes | D32: (none) | E32: 880 | F32: =INDEX('Xero Chart'!$B$5:$B$79,MATCH(E32,'Xero Chart'!$A$5:$A$79,0)) -> Owner A Drawings | G32: =INDEX('Xero Chart'!$C$5:$C$79,MATCH(E32,'Xero Chart'!$A$5:$A$79,0)) -> EQUITY | H32: =INDEX('Xero Chart'!$D$5:$D$79,MATCH(E32,'Xero Chart'!$A$5:$A$79,0)) -> BAS Excluded | I32: No | J32: 1 | K32: =INDEX('TB Roll-forward'!$E$5:$E$90,MATCH(A32,'TB Roll-forward'!$A$5:$A$90,0)) -> 18000
A33: Share capital | B33: Equity | C33: Yes | D33: (none) | E33: 970 | F33: =INDEX('Xero Chart'!$B$5:$B$79,MATCH(E33,'Xero Chart'!$A$5:$A$79,0)) -> Owner A Share Capital | G33: =INDEX('Xero Chart'!$C$5:$C$79,MATCH(E33,'Xero Chart'!$A$5:$A$79,0)) -> EQUITY | H33: =INDEX('Xero Chart'!$D$5:$D$79,MATCH(E33,'Xero Chart'!$A$5:$A$79,0)) -> BAS Excluded | I33: No | J33: 1 | K33: =INDEX('TB Roll-forward'!$E$5:$E$90,MATCH(A33,'TB Roll-forward'!$A$5:$A$90,0)) -> -100
A34: Joinery sales | B34: Income | C34: Yes | D34: GST | E34: 200 | F34: =INDEX('Xero Chart'!$B$5:$B$79,MATCH(E34,'Xero Chart'!$A$5:$A$79,0)) -> Joinery sales | G34: =INDEX('Xero Chart'!$C$5:$C$79,MATCH(E34,'Xero Chart'!$A$5:$A$79,0)) -> REVENUE | H34: =INDEX('Xero Chart'!$D$5:$D$79,MATCH(E34,'Xero Chart'!$A$5:$A$79,0)) -> GST on Income | I34: No | J34: 1 | K34: =INDEX('TB Roll-forward'!$E$5:$E$90,MATCH(A34,'TB Roll-forward'!$A$5:$A$90,0)) -> -334615.94
A35: Shopfitting contracts | B35: Income | C35: Yes | D35: GST | E35: 201 | F35: =INDEX('Xero Chart'!$B$5:$B$79,MATCH(E35,'Xero Chart'!$A$5:$A$79,0)) -> Shopfitting contracts | G35: =INDEX('Xero Chart'!$C$5:$C$79,MATCH(E35,'Xero Chart'!$A$5:$A$79,0)) -> REVENUE | H35: =INDEX('Xero Chart'!$D$5:$D$79,MATCH(E35,'Xero Chart'!$A$5:$A$79,0)) -> GST on Income | I35: No | J35: 1 | K35: =INDEX('TB Roll-forward'!$E$5:$E$90,MATCH(A35,'TB Roll-forward'!$A$5:$A$90,0)) -> -808005.11
A36: Installation labour | B36: Income | C36: Yes | D36: GST | E36: 202 | F36: =INDEX('Xero Chart'!$B$5:$B$79,MATCH(E36,'Xero Chart'!$A$5:$A$79,0)) -> Installation labour | G36: =INDEX('Xero Chart'!$C$5:$C$79,MATCH(E36,'Xero Chart'!$A$5:$A$79,0)) -> REVENUE | H36: =INDEX('Xero Chart'!$D$5:$D$79,MATCH(E36,'Xero Chart'!$A$5:$A$79,0)) -> GST on Income | I36: No | J36: 1 | K36: =INDEX('TB Roll-forward'!$E$5:$E$90,MATCH(A36,'TB Roll-forward'!$A$5:$A$90,0)) -> -41624.32
A37: Design & drafting fees | B37: Income | C37: Yes | D37: GST | E37: 203 | F37: =INDEX('Xero Chart'!$B$5:$B$79,MATCH(E37,'Xero Chart'!$A$5:$A$79,0)) -> Design and drafting fees | G37: =INDEX('Xero Chart'!$C$5:$C$79,MATCH(E37,'Xero Chart'!$A$5:$A$79,0)) -> REVENUE | H37: =INDEX('Xero Chart'!$D$5:$D$79,MATCH(E37,'Xero Chart'!$A$5:$A$79,0)) -> GST on Income | I37: No | J37: 1 | K37: =INDEX('TB Roll-forward'!$E$5:$E$90,MATCH(A37,'TB Roll-forward'!$A$5:$A$90,0)) -> -74807.01
A38: Sales - other | B38: Income | C38: No | D38: GST | E38: 260 | F38: =INDEX('Xero Chart'!$B$5:$B$79,MATCH(E38,'Xero Chart'!$A$5:$A$79,0)) -> Other revenue | G38: =INDEX('Xero Chart'!$C$5:$C$79,MATCH(E38,'Xero Chart'!$A$5:$A$79,0)) -> REVENUE | H38: =INDEX('Xero Chart'!$D$5:$D$79,MATCH(E38,'Xero Chart'!$A$5:$A$79,0)) -> GST on Income | I38: No | J38: 1 | K38: =INDEX('TB Roll-forward'!$E$5:$E$90,MATCH(A38,'TB Roll-forward'!$A$5:$A$90,0)) -> 0 | L38: Merged with other QBO accounts
A39: Discounts given | B39: Income | C39: Yes | D39: GST | E39: 205 | F39: =INDEX('Xero Chart'!$B$5:$B$79,MATCH(E39,'Xero Chart'!$A$5:$A$79,0)) -> Discounts given | G39: =INDEX('Xero Chart'!$C$5:$C$79,MATCH(E39,'Xero Chart'!$A$5:$A$79,0)) -> REVENUE | H39: =INDEX('Xero Chart'!$D$5:$D$79,MATCH(E39,'Xero Chart'!$A$5:$A$79,0)) -> GST on Income | I39: No | J39: 1 | K39: =INDEX('TB Roll-forward'!$E$5:$E$90,MATCH(A39,'TB Roll-forward'!$A$5:$A$90,0)) -> 0
A40: Interest income | B40: Other Income | C40: Yes | D40: GST | E40: 270 | F40: =INDEX('Xero Chart'!$B$5:$B$79,MATCH(E40,'Xero Chart'!$A$5:$A$79,0)) -> Interest income | G40: =INDEX('Xero Chart'!$C$5:$C$79,MATCH(E40,'Xero Chart'!$A$5:$A$79,0)) -> OTHERINCOME | H40: =INDEX('Xero Chart'!$D$5:$D$79,MATCH(E40,'Xero Chart'!$A$5:$A$79,0)) -> Input Taxed | I40: Yes | J40: 1 | K40: =INDEX('TB Roll-forward'!$E$5:$E$90,MATCH(A40,'TB Roll-forward'!$A$5:$A$90,0)) -> -1620
A41: Other income | B41: Other Income | C41: Yes | D41: GST | E41: 260 | F41: =INDEX('Xero Chart'!$B$5:$B$79,MATCH(E41,'Xero Chart'!$A$5:$A$79,0)) -> Other revenue | G41: =INDEX('Xero Chart'!$C$5:$C$79,MATCH(E41,'Xero Chart'!$A$5:$A$79,0)) -> REVENUE | H41: =INDEX('Xero Chart'!$D$5:$D$79,MATCH(E41,'Xero Chart'!$A$5:$A$79,0)) -> GST on Income | I41: No | J41: 1 | K41: =INDEX('TB Roll-forward'!$E$5:$E$90,MATCH(A41,'TB Roll-forward'!$A$5:$A$90,0)) -> 0 | L41: Merged with other QBO accounts
...

Sheet QBO GL
A1: QBO general ledger (balances at 30 Jun 2026 and every Jul-Sep 2026 line)
A2: Work sample: realistic data, built to show how I approach this work.
A4: Txn | B4: Date | C4: Type | D4: Num | E4: Name | F4: Account | G4: Amount | H4: Tax code | I4: Memo | J4: Cleared | K4: Xero code
A5: 1 | B5: 46203 | C5: Journal Entry | D5: OB-FY26 | F5: ANZ Business Cheque | G5: 84215.37 | I5: Balances at 30 Jun 2026 (FY26 close) | J5: R | K5: =INDEX('Account Map'!$E$5:$E$90,MATCH(F5,'Account Map'!$A$5:$A$90,0)) -> 090
A6: 1 | B6: 46203 | C6: Journal Entry | D6: OB-FY26 | F6: ANZ Online Saver | G6: 120000 | I6: Balances at 30 Jun 2026 (FY26 close) | J6: R | K6: =INDEX('Account Map'!$E$5:$E$90,MATCH(F6,'Account Map'!$A$5:$A$90,0)) -> 091
A7: 1 | B7: 46203 | C7: Journal Entry | D7: OB-FY26 | F7: Accounts Receivable (A/R) | G7: 604313.88 | I7: Balances at 30 Jun 2026 (FY26 close) | K7: =INDEX('Account Map'!$E$5:$E$90,MATCH(F7,'Account Map'!$A$5:$A$90,0)) -> 610
A8: 1 | B8: 46203 | C8: Journal Entry | D8: OB-FY26 | F8: Prepayments | G8: 6840 | I8: Balances at 30 Jun 2026 (FY26 close) | K8: =INDEX('Account Map'!$E$5:$E$90,MATCH(F8,'Account Map'!$A$5:$A$90,0)) -> 620
A9: 1 | B9: 46203 | C9: Journal Entry | D9: OB-FY26 | F9: Prepaid insurance (old) | G9: 1850 | I9: Balances at 30 Jun 2026 (FY26 close) | K9: =INDEX('Account Map'!$E$5:$E$90,MATCH(F9,'Account Map'!$A$5:$A$90,0)) -> 620
A10: 1 | B10: 46203 | C10: Journal Entry | D10: OB-FY26 | F10: Stock on hand | G10: 38420.55 | I10: Balances at 30 Jun 2026 (FY26 close) | K10: =INDEX('Account Map'!$E$5:$E$90,MATCH(F10,'Account Map'!$A$5:$A$90,0)) -> 630
A11: 1 | B11: 46203 | C11: Journal Entry | D11: OB-FY26 | F11: Work in progress | G11: 22150 | I11: Balances at 30 Jun 2026 (FY26 close) | K11: =INDEX('Account Map'!$E$5:$E$90,MATCH(F11,'Account Map'!$A$5:$A$90,0)) -> 631
A12: 1 | B12: 46203 | C12: Journal Entry | D12: OB-FY26 | F12: Rental bond | G12: 18000 | I12: Balances at 30 Jun 2026 (FY26 close) | K12: =INDEX('Account Map'!$E$5:$E$90,MATCH(F12,'Account Map'!$A$5:$A$90,0)) -> 632
A13: 1 | B13: 46203 | C13: Journal Entry | D13: OB-FY26 | F13: Plant & equipment | G13: 286400 | I13: Balances at 30 Jun 2026 (FY26 close) | K13: =INDEX('Account Map'!$E$5:$E$90,MATCH(F13,'Account Map'!$A$5:$A$90,0)) -> 710
A14: 1 | B14: 46203 | C14: Journal Entry | D14: OB-FY26 | F14: Plant & equipment:Accumulated depreciation | G14: -118230 | I14: Balances at 30 Jun 2026 (FY26 close) | K14: =INDEX('Account Map'!$E$5:$E$90,MATCH(F14,'Account Map'!$A$5:$A$90,0)) -> 711
A15: 1 | B15: 46203 | C15: Journal Entry | D15: OB-FY26 | F15: Motor vehicles | G15: 142500 | I15: Balances at 30 Jun 2026 (FY26 close) | K15: =INDEX('Account Map'!$E$5:$E$90,MATCH(F15,'Account Map'!$A$5:$A$90,0)) -> 720
A16: 1 | B16: 46203 | C16: Journal Entry | D16: OB-FY26 | F16: Motor vehicles:Accumulated depreciation | G16: -61375 | I16: Balances at 30 Jun 2026 (FY26 close) | K16: =INDEX('Account Map'!$E$5:$E$90,MATCH(F16,'Account Map'!$A$5:$A$90,0)) -> 721
A17: 1 | B17: 46203 | C17: Journal Entry | D17: OB-FY26 | F17: Computer equipment | G17: 18640 | I17: Balances at 30 Jun 2026 (FY26 close) | K17: =INDEX('Account Map'!$E$5:$E$90,MATCH(F17,'Account Map'!$A$5:$A$90,0)) -> 730
A18: 1 | B18: 46203 | C18: Journal Entry | D18: OB-FY26 | F18: Accum. depn - computers | G18: -11204 | I18: Balances at 30 Jun 2026 (FY26 close) | K18: =INDEX('Account Map'!$E$5:$E$90,MATCH(F18,'Account Map'!$A$5:$A$90,0)) -> 731
A19: 1 | B19: 46203 | C19: Journal Entry | D19: OB-FY26 | F19: Accounts Payable (A/P) | G19: -223596.2 | I19: Balances at 30 Jun 2026 (FY26 close) | K19: =INDEX('Account Map'!$E$5:$E$90,MATCH(F19,'Account Map'!$A$5:$A$90,0)) -> 800
A20: 1 | B20: 46203 | C20: Journal Entry | D20: OB-FY26 | F20: ANZ Business Visa | G20: -6412.83 | I20: Balances at 30 Jun 2026 (FY26 close) | J20: R | K20: =INDEX('Account Map'!$E$5:$E$90,MATCH(F20,'Account Map'!$A$5:$A$90,0)) -> 092
A21: 1 | B21: 46203 | C21: Journal Entry | D21: OB-FY26 | F21: GST Payable | G21: -31284.18 | I21: Balances at 30 Jun 2026 (FY26 close) | K21: =INDEX('Account Map'!$E$5:$E$90,MATCH(F21,'Account Map'!$A$5:$A$90,0)) -> 820
A22: 1 | B22: 46203 | C22: Journal Entry | D22: OB-FY26 | F22: PAYG Withholdings Payable | G22: -18660 | I22: Balances at 30 Jun 2026 (FY26 close) | K22: =INDEX('Account Map'!$E$5:$E$90,MATCH(F22,'Account Map'!$A$5:$A$90,0)) -> 825
A23: 1 | B23: 46203 | C23: Journal Entry | D23: OB-FY26 | F23: Superannuation Payable | G23: -21894.6 | I23: Balances at 30 Jun 2026 (FY26 close) | K23: =INDEX('Account Map'!$E$5:$E$90,MATCH(F23,'Account Map'!$A$5:$A$90,0)) -> 826
A24: 1 | B24: 46203 | C24: Journal Entry | D24: OB-FY26 | F24: Accrued expenses | G24: -4200 | I24: Balances at 30 Jun 2026 (FY26 close) | K24: =INDEX('Account Map'!$E$5:$E$90,MATCH(F24,'Account Map'!$A$5:$A$90,0)) -> 827
A25: 1 | B25: 46203 | C25: Journal Entry | D25: OB-FY26 | F25: Customer deposits | G25: -36500 | I25: Balances at 30 Jun 2026 (FY26 close) | K25: =INDEX('Account Map'!$E$5:$E$90,MATCH(F25,'Account Map'!$A$5:$A$90,0)) -> 835
A26: 1 | B26: 46203 | C26: Journal Entry | D26: OB-FY26 | F26: Equipment loan - Westpac | G26: -96400 | I26: Balances at 30 Jun 2026 (FY26 close) | K26: =INDEX('Account Map'!$E$5:$E$90,MATCH(F26,'Account Map'!$A$5:$A$90,0)) -> 900
A27: 1 | B27: 46203 | C27: Journal Entry | D27: OB-FY26 | F27: Vehicle finance | G27: -58210 | I27: Balances at 30 Jun 2026 (FY26 close) | K27: =INDEX('Account Map'!$E$5:$E$90,MATCH(F27,'Account Map'!$A$5:$A$90,0)) -> 901
A28: 1 | B28: 46203 | C28: Journal Entry | D28: OB-FY26 | F28: Opening Balance Equity | G28: -3412.5 | I28: Balances at 30 Jun 2026 (FY26 close) | K28: =INDEX('Account Map'!$E$5:$E$90,MATCH(F28,'Account Map'!$A$5:$A$90,0)) -> 960
A29: 1 | B29: 46203 | C29: Journal Entry | D29: OB-FY26 | F29: Share capital | G29: -100 | I29: Balances at 30 Jun 2026 (FY26 close) | K29: =INDEX('Account Map'!$E$5:$E$90,MATCH(F29,'Account Map'!$A$5:$A$90,0)) -> 970
A30: 1 | B30: 46203 | C30: Journal Entry | D30: OB-FY26 | F30: Retained Earnings | G30: -651850.49 | I30: Balances at 30 Jun 2026 (FY26 close) | K30: =INDEX('Account Map'!$E$5:$E$90,MATCH(F30,'Account Map'!$A$5:$A$90,0)) -> 960
A31: 2 | B31: 46204 | C31: Payment | E31: Laneway Property Group Pty Ltd | F31: ANZ Business Cheque | G31: 3958.91 | I31: Payment INV-4101 | J31: R | K31: =INDEX('Account Map'!$E$5:$E$90,MATCH(F31,'Account Map'!$A$5:$A$90,0)) -> 090
A32: 2 | B32: 46204 | C32: Payment | E32: Laneway Property Group Pty Ltd | F32: Accounts Receivable (A/R) | G32: -3958.91 | I32: Payment INV-4101 | K32: =INDEX('Account Map'!$E$5:$E$90,MATCH(F32,'Account Map'!$A$5:$A$90,0)) -> 610
A33: 3 | B33: 46227 | C33: Payment | E33: Collins Bookshop Pty Ltd | F33: Undeposited Funds | G33: 9012.61 | I33: Payment INV-4103 | K33: =INDEX('Account Map'!$E$5:$E$90,MATCH(F33,'Account Map'!$A$5:$A$90,0)) -> 615
A34: 3 | B34: 46227 | C34: Payment | E34: Collins Bookshop Pty Ltd | F34: Accounts Receivable (A/R) | G34: -9012.61 | I34: Payment INV-4103 | K34: =INDEX('Account Map'!$E$5:$E$90,MATCH(F34,'Account Map'!$A$5:$A$90,0)) -> 610
A35: 4 | B35: 46215 | C35: Payment | E35: Wattle Builders Pty Ltd | F35: ANZ Business Cheque | G35: 4133.82 | I35: Payment INV-4104 | J35: R | K35: =INDEX('Account Map'!$E$5:$E$90,MATCH(F35,'Account Map'!$A$5:$A$90,0)) -> 090
A36: 4 | B36: 46215 | C36: Payment | E36: Wattle Builders Pty Ltd | F36: Accounts Receivable (A/R) | G36: -4133.82 | I36: Payment INV-4104 | K36: =INDEX('Account Map'!$E$5:$E$90,MATCH(F36,'Account Map'!$A$5:$A$90,0)) -> 610
A37: 5 | B37: 46205 | C37: Payment | E37: Smith St Dental | F37: Undeposited Funds | G37: 7631.39 | I37: Payment INV-4105 | K37: =INDEX('Account Map'!$E$5:$E$90,MATCH(F37,'Account Map'!$A$5:$A$90,0)) -> 615
A38: 5 | B38: 46205 | C38: Payment | E38: Smith St Dental | F38: Accounts Receivable (A/R) | G38: -7631.39 | I38: Payment INV-4105 | K38: =INDEX('Account Map'!$E$5:$E$90,MATCH(F38,'Account Map'!$A$5:$A$90,0)) -> 610
A39: 6 | B39: 46222 | C39: Payment | E39: Glenferrie Bakery Pty Ltd | F39: ANZ Business Cheque | G39: 8306.28 | I39: Payment INV-4106 | J39: R | K39: =INDEX('Account Map'!$E$5:$E$90,MATCH(F39,'Account Map'!$A$5:$A$90,0)) -> 090
A40: 6 | B40: 46222 | C40: Payment | E40: Glenferrie Bakery Pty Ltd | F40: Accounts Receivable (A/R) | G40: -8306.28 | I40: Payment INV-4106 | K40: =INDEX('Account Map'!$E$5:$E$90,MATCH(F40,'Account Map'!$A$5:$A$90,0)) -> 610
A41: 7 | B41: 46212 | C41: Payment | E41: Prahran Optometrists Pty Ltd | F41: ANZ Business Cheque | G41: 3061.51 | I41: Payment INV-4107 | J41: R | K41: =INDEX('Account Map'!$E$5:$E$90,MATCH(F41,'Account Map'!$A$5:$A$90,0)) -> 090
...

Sheet TB Roll-forward
A1: Trial balance roll-forward: 30 Jun + Jul-Sep movements vs the 30 Sep TB export
A2: Work sample: realistic data, built to show how I approach this work.
A4: Account | B4: TB 30 Jun 2026 | C4: Jul-Sep movement | D4: Rolled forward | E4: TB 30 Sep 2026 (export) | F4: Difference
A5: ANZ Business Cheque | B5: =SUMIFS('QBO GL'!$G$5:$G$3941,'QBO GL'!$F$5:$F$3941,A5,'QBO GL'!$B$5:$B$3941,"<="&DATE(2026,6,30)) -> 84215.37 | C5: =SUMIFS('QBO GL'!$G$5:$G$3941,'QBO GL'!$F$5:$F$3941,A5,'QBO GL'!$B$5:$B$3941,">"&DATE(2026,6,30)) -> 420085.71 | D5: =B5+C5 -> 504301.08 | E5: 504301.08 | F5: =ROUND(D5-E5,2) -> 0
A6: ANZ Online Saver | B6: =SUMIFS('QBO GL'!$G$5:$G$3941,'QBO GL'!$F$5:$F$3941,A6,'QBO GL'!$B$5:$B$3941,"<="&DATE(2026,6,30)) -> 120000 | C6: =SUMIFS('QBO GL'!$G$5:$G$3941,'QBO GL'!$F$5:$F$3941,A6,'QBO GL'!$B$5:$B$3941,">"&DATE(2026,6,30)) -> -58380 | D6: =B6+C6 -> 61620 | E6: 61620 | F6: =ROUND(D6-E6,2) -> 0
A7: Undeposited Funds | B7: =SUMIFS('QBO GL'!$G$5:$G$3941,'QBO GL'!$F$5:$F$3941,A7,'QBO GL'!$B$5:$B$3941,"<="&DATE(2026,6,30)) -> 0 | C7: =SUMIFS('QBO GL'!$G$5:$G$3941,'QBO GL'!$F$5:$F$3941,A7,'QBO GL'!$B$5:$B$3941,">"&DATE(2026,6,30)) -> 26618.67 | D7: =B7+C7 -> 26618.67 | E7: 26618.67 | F7: =ROUND(D7-E7,2) -> 0
A8: Accounts Receivable (A/R) | B8: =SUMIFS('QBO GL'!$G$5:$G$3941,'QBO GL'!$F$5:$F$3941,A8,'QBO GL'!$B$5:$B$3941,"<="&DATE(2026,6,30)) -> 604313.88 | C8: =SUMIFS('QBO GL'!$G$5:$G$3941,'QBO GL'!$F$5:$F$3941,A8,'QBO GL'!$B$5:$B$3941,">"&DATE(2026,6,30)) -> 138666.38 | D8: =B8+C8 -> 742980.26 | E8: 742980.26 | F8: =ROUND(D8-E8,2) -> 0
A9: Prepayments | B9: =SUMIFS('QBO GL'!$G$5:$G$3941,'QBO GL'!$F$5:$F$3941,A9,'QBO GL'!$B$5:$B$3941,"<="&DATE(2026,6,30)) -> 6840 | C9: =SUMIFS('QBO GL'!$G$5:$G$3941,'QBO GL'!$F$5:$F$3941,A9,'QBO GL'!$B$5:$B$3941,">"&DATE(2026,6,30)) -> 0 | D9: =B9+C9 -> 6840 | E9: 6840 | F9: =ROUND(D9-E9,2) -> 0
A10: Prepaid insurance (old) | B10: =SUMIFS('QBO GL'!$G$5:$G$3941,'QBO GL'!$F$5:$F$3941,A10,'QBO GL'!$B$5:$B$3941,"<="&DATE(2026,6,30)) -> 1850 | C10: =SUMIFS('QBO GL'!$G$5:$G$3941,'QBO GL'!$F$5:$F$3941,A10,'QBO GL'!$B$5:$B$3941,">"&DATE(2026,6,30)) -> 0 | D10: =B10+C10 -> 1850 | E10: 1850 | F10: =ROUND(D10-E10,2) -> 0
A11: Stock on hand | B11: =SUMIFS('QBO GL'!$G$5:$G$3941,'QBO GL'!$F$5:$F$3941,A11,'QBO GL'!$B$5:$B$3941,"<="&DATE(2026,6,30)) -> 38420.55 | C11: =SUMIFS('QBO GL'!$G$5:$G$3941,'QBO GL'!$F$5:$F$3941,A11,'QBO GL'!$B$5:$B$3941,">"&DATE(2026,6,30)) -> 0 | D11: =B11+C11 -> 38420.55 | E11: 38420.55 | F11: =ROUND(D11-E11,2) -> 0
A12: Work in progress | B12: =SUMIFS('QBO GL'!$G$5:$G$3941,'QBO GL'!$F$5:$F$3941,A12,'QBO GL'!$B$5:$B$3941,"<="&DATE(2026,6,30)) -> 22150 | C12: =SUMIFS('QBO GL'!$G$5:$G$3941,'QBO GL'!$F$5:$F$3941,A12,'QBO GL'!$B$5:$B$3941,">"&DATE(2026,6,30)) -> 0 | D12: =B12+C12 -> 22150 | E12: 22150 | F12: =ROUND(D12-E12,2) -> 0
A13: Rental bond | B13: =SUMIFS('QBO GL'!$G$5:$G$3941,'QBO GL'!$F$5:$F$3941,A13,'QBO GL'!$B$5:$B$3941,"<="&DATE(2026,6,30)) -> 18000 | C13: =SUMIFS('QBO GL'!$G$5:$G$3941,'QBO GL'!$F$5:$F$3941,A13,'QBO GL'!$B$5:$B$3941,">"&DATE(2026,6,30)) -> 0 | D13: =B13+C13 -> 18000 | E13: 18000 | F13: =ROUND(D13-E13,2) -> 0
A14: Plant & equipment | B14: =SUMIFS('QBO GL'!$G$5:$G$3941,'QBO GL'!$F$5:$F$3941,A14,'QBO GL'!$B$5:$B$3941,"<="&DATE(2026,6,30)) -> 286400 | C14: =SUMIFS('QBO GL'!$G$5:$G$3941,'QBO GL'!$F$5:$F$3941,A14,'QBO GL'!$B$5:$B$3941,">"&DATE(2026,6,30)) -> 0 | D14: =B14+C14 -> 286400 | E14: 286400 | F14: =ROUND(D14-E14,2) -> 0
A15: Plant & equipment:Accumulated depreciation | B15: =SUMIFS('QBO GL'!$G$5:$G$3941,'QBO GL'!$F$5:$F$3941,A15,'QBO GL'!$B$5:$B$3941,"<="&DATE(2026,6,30)) -> -118230 | C15: =SUMIFS('QBO GL'!$G$5:$G$3941,'QBO GL'!$F$5:$F$3941,A15,'QBO GL'!$B$5:$B$3941,">"&DATE(2026,6,30)) -> -8580 | D15: =B15+C15 -> -126810 | E15: -126810 | F15: =ROUND(D15-E15,2) -> 0
A16: Motor vehicles | B16: =SUMIFS('QBO GL'!$G$5:$G$3941,'QBO GL'!$F$5:$F$3941,A16,'QBO GL'!$B$5:$B$3941,"<="&DATE(2026,6,30)) -> 142500 | C16: =SUMIFS('QBO GL'!$G$5:$G$3941,'QBO GL'!$F$5:$F$3941,A16,'QBO GL'!$B$5:$B$3941,">"&DATE(2026,6,30)) -> 0 | D16: =B16+C16 -> 142500 | E16: 142500 | F16: =ROUND(D16-E16,2) -> 0
... A90: Ask My Accountant | B90: =SUMIFS('QBO GL'!$G$5:$G$3941,'QBO GL'!$F$5:$F$3941,A90,'QBO GL'!$B$5:$B$3941,"<="&DATE(2026,6,30)) -> 0 | C90: =SUMIFS('QBO GL'!$G$5:$G$3941,'QBO GL'!$F$5:$F$3941,A90,'QBO GL'!$B$5:$B$3941,">"&DATE(2026,6,30)) -> 0 | D90: =B90+C90 -> 0 | E90: 0 | F90: =ROUND(D90-E90,2) -> 0

Sheet Tax Review
A1: Default tax codes that change (for your BAS agent or accountant to confirm)
A2: Work sample: realistic data, built to show how I approach this work.
A4: QBO account | B4: QBO default | C4: Xero default | D4: Jul-Sep lines | E4: GST on those lines | F4: Action
A5: Interest income | B5: GST | C5: Input Taxed | D5: =COUNTIFS('QBO GL'!$F$5:$F$3941,A5,'QBO GL'!$B$5:$B$3941,">"&DATE(2026,6,30)) -> 3 | E5: 0 | F5: Set the Xero default; GST on past lines is nil, so figures already reported do not change; confirm with your BAS agent or accountant
A6: Bank fees | B6: GST | C6: GST Free Expenses | D6: =COUNTIFS('QBO GL'!$F$5:$F$3941,A6,'QBO GL'!$B$5:$B$3941,">"&DATE(2026,6,30)) -> 3 | E6: 0 | F6: Set the Xero default; GST on past lines is nil, so figures already reported do not change; confirm with your BAS agent or accountant
A7: Workcover | B7: GST | C7: GST Free Expenses | D7: =COUNTIFS('QBO GL'!$F$5:$F$3941,A7,'QBO GL'!$B$5:$B$3941,">"&DATE(2026,6,30)) -> 2 | E7: 0 | F7: Set the Xero default; GST on past lines is nil, so figures already reported do not change; confirm with your BAS agent or accountant
A8: Interest expense | B8: GST | C8: GST Free Expenses | D8: =COUNTIFS('QBO GL'!$F$5:$F$3941,A8,'QBO GL'!$B$5:$B$3941,">"&DATE(2026,6,30)) -> 6 | E8: 0 | F8: Set the Xero default; GST on past lines is nil, so figures already reported do not change; confirm with your BAS agent or accountant
A9: Motor Vehicle:Rego & insurance | B9: GST | C9: GST Free Expenses | D9: =COUNTIFS('QBO GL'!$F$5:$F$3941,A9,'QBO GL'!$B$5:$B$3941,">"&DATE(2026,6,30)) -> 3 | E9: 0 | F9: Set the Xero default; GST on past lines is nil, so figures already reported do not change; confirm with your BAS agent or accountant
A10: Licences & permits | B10: GST | C10: GST Free Expenses | D10: =COUNTIFS('QBO GL'!$F$5:$F$3941,A10,'QBO GL'!$B$5:$B$3941,">"&DATE(2026,6,30)) -> 4 | E10: 0 | F10: Set the Xero default; GST on past lines is nil, so figures already reported do not change; confirm with your BAS agent or accountant
A11: Donations | B11: GST | C11: GST Free Expenses | D11: =COUNTIFS('QBO GL'!$F$5:$F$3941,A11,'QBO GL'!$B$5:$B$3941,">"&DATE(2026,6,30)) -> 0 | E11: 0 | F11: Set the Xero default; GST on past lines is nil, so figures already reported do not change; confirm with your BAS agent or accountant
A12: Fines & penalties | B12: GST | C12: BAS Excluded | D12: =COUNTIFS('QBO GL'!$F$5:$F$3941,A12,'QBO GL'!$B$5:$B$3941,">"&DATE(2026,6,30)) -> 0 | E12: 0 | F12: Set the Xero default; GST on past lines is nil, so figures already reported do not change; confirm with your BAS agent or accountant

Sheet Contacts
A1: QBO customer and supplier records and the Xero contact each becomes
A2: Work sample: realistic data, built to show how I approach this work.
A4: QBO ID | B4: Role | C4: QBO name | D4: ABN | E4: Xero contact | F4: Xero key | G4: Action | H4: Rule | I4: Open items | J4: Key exists
A5: C001 | B5: Customer | C5: Lygon Constructions Pty Ltd | E5: Lygon Constructions Pty Ltd | F5: C001 | G5: Keep | I5: =COUNTIF('Open AR'!$I$5:$I$139,A5)+COUNTIF('Open AP'!$I$5:$I$194,A5) -> 1 | J5: =COUNTIF('Xero Contacts'!$B$5:$B$453,F5) -> 1
A6: C002 | B6: Customer | C6: Southern Architects Pty Ltd | D6: 12027635394 | E6: Southern Architects Pty Ltd | F6: C002 | G6: Keep | I6: =COUNTIF('Open AR'!$I$5:$I$139,A6)+COUNTIF('Open AP'!$I$5:$I$194,A6) -> 1 | J6: =COUNTIF('Xero Contacts'!$B$5:$B$453,F6) -> 1
A7: C003 | B7: Customer | C7: Yarra Constructions Pty Ltd | E7: Yarra Constructions Pty Ltd | F7: C003 | G7: Keep | I7: =COUNTIF('Open AR'!$I$5:$I$139,A7)+COUNTIF('Open AP'!$I$5:$I$194,A7) -> 0 | J7: =COUNTIF('Xero Contacts'!$B$5:$B$453,F7) -> 1
A8: C004 | B8: Customer | C8: Lygon Salon Pty Ltd | D8: 25680769711 | E8: Lygon Salon Pty Ltd | F8: C004 | G8: Keep | I8: =COUNTIF('Open AR'!$I$5:$I$139,A8)+COUNTIF('Open AP'!$I$5:$I$194,A8) -> 0 | J8: =COUNTIF('Xero Contacts'!$B$5:$B$453,F8) -> 1
A9: C005 | B9: Customer | C9: Clifton Optometrists | D9: 84077093798 | E9: Clifton Optometrists | F9: C005 | G9: Keep | I9: =COUNTIF('Open AR'!$I$5:$I$139,A9)+COUNTIF('Open AP'!$I$5:$I$194,A9) -> 1 | J9: =COUNTIF('Xero Contacts'!$B$5:$B$453,F9) -> 1
A10: C006 | B10: Customer | C10: Glenferrie Salon Pty Ltd | D10: 31333095371 | E10: Glenferrie Salon Pty Ltd | F10: C006 | G10: Keep | I10: =COUNTIF('Open AR'!$I$5:$I$139,A10)+COUNTIF('Open AP'!$I$5:$I$194,A10) -> 0 | J10: =COUNTIF('Xero Contacts'!$B$5:$B$453,F10) -> 1
A11: C007 | B11: Customer | C11: Ironbark Pharmacy | E11: Ironbark Pharmacy | F11: C007 | G11: Keep | I11: =COUNTIF('Open AR'!$I$5:$I$139,A11)+COUNTIF('Open AP'!$I$5:$I$194,A11) -> 0 | J11: =COUNTIF('Xero Contacts'!$B$5:$B$453,F11) -> 1
A12: C305 | B12: Customer | C12: Ironbark Pharmacy | E12: Ironbark Pharmacy | F12: C007 | G12: Merge into C007 | H12: Same name (normalised) | I12: =COUNTIF('Open AR'!$I$5:$I$139,A12)+COUNTIF('Open AP'!$I$5:$I$194,A12) -> 0 | J12: =COUNTIF('Xero Contacts'!$B$5:$B$453,F12) -> 1
A13: C008 | B13: Customer | C13: Hawthorn Homewares Pty Ltd | D13: 82357073380 | E13: Hawthorn Homewares Pty Ltd | F13: C008 | G13: Keep | I13: =COUNTIF('Open AR'!$I$5:$I$139,A13)+COUNTIF('Open AP'!$I$5:$I$194,A13) -> 0 | J13: =COUNTIF('Xero Contacts'!$B$5:$B$453,F13) -> 1
A14: C009 | B14: Customer | C14: Smith St Pharmacy Pty Ltd | D14: 27843238559 | E14: Smith St Pharmacy Pty Ltd | F14: C009 | G14: Keep | I14: =COUNTIF('Open AR'!$I$5:$I$139,A14)+COUNTIF('Open AP'!$I$5:$I$194,A14) -> 1 | J14: =COUNTIF('Xero Contacts'!$B$5:$B$453,F14) -> 1
A15: C010 | B15: Customer | C15: Yarra Kitchen & Bath Pty Ltd | D15: 21772229285 | E15: Yarra Kitchen & Bath Pty Ltd | F15: C010 | G15: Keep | I15: =COUNTIF('Open AR'!$I$5:$I$139,A15)+COUNTIF('Open AP'!$I$5:$I$194,A15) -> 1 | J15: =COUNTIF('Xero Contacts'!$B$5:$B$453,F15) -> 1
A16: C011 | B16: Customer | C16: Brunswick Bookshop Pty Ltd | D16: 33096039827 | E16: Brunswick Bookshop Pty Ltd | F16: C011 | G16: Keep | I16: =COUNTIF('Open AR'!$I$5:$I$139,A16)+COUNTIF('Open AP'!$I$5:$I$194,A16) -> 1 | J16: =COUNTIF('Xero Contacts'!$B$5:$B$453,F16) -> 1
A17: C012 | B17: Customer | C17: High St Bakery Group | D17: 57448635350 | E17: High St Bakery Group | F17: C012 | G17: Keep | I17: =COUNTIF('Open AR'!$I$5:$I$139,A17)+COUNTIF('Open AP'!$I$5:$I$194,A17) -> 0 | J17: =COUNTIF('Xero Contacts'!$B$5:$B$453,F17) -> 1
A18: S164 | B18: Supplier | C18: High St Bakery Group | D18: 57448635350 | E18: High St Bakery Group | F18: C012 | G18: Merge into C012 | H18: Same ABN | I18: =COUNTIF('Open AR'!$I$5:$I$139,A18)+COUNTIF('Open AP'!$I$5:$I$194,A18) -> 0 | J18: =COUNTIF('Xero Contacts'!$B$5:$B$453,F18) -> 1
A19: C013 | B19: Customer | C19: Fitzroy Bookshop | D19: 16972855922 | E19: Fitzroy Bookshop | F19: C013 | G19: Keep | I19: =COUNTIF('Open AR'!$I$5:$I$139,A19)+COUNTIF('Open AP'!$I$5:$I$194,A19) -> 0 | J19: =COUNTIF('Xero Contacts'!$B$5:$B$453,F19) -> 1
A20: C014 | B20: Customer | C20: Laneway Florist Pty Ltd | D20: 92192547321 | E20: Laneway Florist Pty Ltd | F20: C014 | G20: Keep | I20: =COUNTIF('Open AR'!$I$5:$I$139,A20)+COUNTIF('Open AP'!$I$5:$I$194,A20) -> 1 | J20: =COUNTIF('Xero Contacts'!$B$5:$B$453,F20) -> 1
A21: C015 | B21: Customer | C21: Wattle Gallery Pty Ltd | D21: 54608424603 | E21: Wattle Gallery Pty Ltd | F21: C015 | G21: Keep | I21: =COUNTIF('Open AR'!$I$5:$I$139,A21)+COUNTIF('Open AP'!$I$5:$I$194,A21) -> 1 | J21: =COUNTIF('Xero Contacts'!$B$5:$B$453,F21) -> 1
A22: C016 | B22: Customer | C22: Camberwell Eyewear Pty Ltd | D22: 20792192190 | E22: Camberwell Eyewear Pty Ltd | F22: C016 | G22: Keep | I22: =COUNTIF('Open AR'!$I$5:$I$139,A22)+COUNTIF('Open AP'!$I$5:$I$194,A22) -> 0 | J22: =COUNTIF('Xero Contacts'!$B$5:$B$453,F22) -> 1
A23: C017 | B23: Customer | C23: Smith St Medical Centre Group | D23: 39588330517 | E23: Smith St Medical Centre Group | F23: C017 | G23: Keep | I23: =COUNTIF('Open AR'!$I$5:$I$139,A23)+COUNTIF('Open AP'!$I$5:$I$194,A23) -> 1 | J23: =COUNTIF('Xero Contacts'!$B$5:$B$453,F23) -> 1
A24: C018 | B24: Customer | C24: Bluestone Kitchen & Bath Pty Ltd | D24: 52676345774 | E24: Bluestone Kitchen & Bath Pty Ltd | F24: C018 | G24: Keep | I24: =COUNTIF('Open AR'!$I$5:$I$139,A24)+COUNTIF('Open AP'!$I$5:$I$194,A24) -> 1 | J24: =COUNTIF('Xero Contacts'!$B$5:$B$453,F24) -> 1
A25: C298 | B25: Customer | C25: BLUESTONE KITCHEN & BATH PTY LTD | D25: 52676345774 | E25: Bluestone Kitchen & Bath Pty Ltd | F25: C018 | G25: Merge into C018 | H25: Same ABN | I25: =COUNTIF('Open AR'!$I$5:$I$139,A25)+COUNTIF('Open AP'!$I$5:$I$194,A25) -> 1 | J25: =COUNTIF('Xero Contacts'!$B$5:$B$453,F25) -> 1
A26: C019 | B26: Customer | C26: Southern Kitchen & Bath Pty Ltd | D26: 15621441710 | E26: Southern Kitchen & Bath Pty Ltd | F26: C019 | G26: Keep | I26: =COUNTIF('Open AR'!$I$5:$I$139,A26)+COUNTIF('Open AP'!$I$5:$I$194,A26) -> 1 | J26: =COUNTIF('Xero Contacts'!$B$5:$B$453,F26) -> 1
A27: C020 | B27: Customer | C27: Glenferrie Interiors Group | E27: Glenferrie Interiors Group | F27: C020 | G27: Keep | I27: =COUNTIF('Open AR'!$I$5:$I$139,A27)+COUNTIF('Open AP'!$I$5:$I$194,A27) -> 3 | J27: =COUNTIF('Xero Contacts'!$B$5:$B$453,F27) -> 1
A28: C021 | B28: Customer | C28: Ironbark Interiors Group | D28: 54271148152 | E28: Ironbark Interiors Group | F28: C021 | G28: Keep | I28: =COUNTIF('Open AR'!$I$5:$I$139,A28)+COUNTIF('Open AP'!$I$5:$I$194,A28) -> 1 | J28: =COUNTIF('Xero Contacts'!$B$5:$B$453,F28) -> 1
A29: C022 | B29: Customer | C29: Prahran Vet Clinic Pty Ltd | D29: 97824206537 | E29: Prahran Vet Clinic Pty Ltd | F29: C022 | G29: Keep | I29: =COUNTIF('Open AR'!$I$5:$I$139,A29)+COUNTIF('Open AP'!$I$5:$I$194,A29) -> 1 | J29: =COUNTIF('Xero Contacts'!$B$5:$B$453,F29) -> 1
A30: C023 | B30: Customer | C30: Ironbark Real Estate Group | D30: 85995059198 | E30: Ironbark Real Estate Group | F30: C023 | G30: Keep | I30: =COUNTIF('Open AR'!$I$5:$I$139,A30)+COUNTIF('Open AP'!$I$5:$I$194,A30) -> 0 | J30: =COUNTIF('Xero Contacts'!$B$5:$B$453,F30) -> 1
A31: C024 | B31: Customer | C31: Malvern Homewares Pty Ltd | E31: Malvern Homewares Pty Ltd | F31: C024 | G31: Keep | I31: =COUNTIF('Open AR'!$I$5:$I$139,A31)+COUNTIF('Open AP'!$I$5:$I$194,A31) -> 1 | J31: =COUNTIF('Xero Contacts'!$B$5:$B$453,F31) -> 1
A32: C025 | B32: Customer | C32: Collins Bookshop Pty Ltd | E32: Collins Bookshop Pty Ltd | F32: C025 | G32: Keep | I32: =COUNTIF('Open AR'!$I$5:$I$139,A32)+COUNTIF('Open AP'!$I$5:$I$194,A32) -> 0 | J32: =COUNTIF('Xero Contacts'!$B$5:$B$453,F32) -> 1
A33: C026 | B33: Customer | C33: Laneway Cafe Pty Ltd | D33: 71418685340 | E33: Laneway Cafe Pty Ltd | F33: C026 | G33: Keep | I33: =COUNTIF('Open AR'!$I$5:$I$139,A33)+COUNTIF('Open AP'!$I$5:$I$194,A33) -> 1 | J33: =COUNTIF('Xero Contacts'!$B$5:$B$453,F33) -> 1
A34: C027 | B34: Customer | C34: Docklands Physio Group | D34: 98326001173 | E34: Docklands Physio Group | F34: C027 | G34: Keep | I34: =COUNTIF('Open AR'!$I$5:$I$139,A34)+COUNTIF('Open AP'!$I$5:$I$194,A34) -> 0 | J34: =COUNTIF('Xero Contacts'!$B$5:$B$453,F34) -> 1
A35: C028 | B35: Customer | C35: Bluestone Legal Pty Ltd | E35: Bluestone Legal Pty Ltd | F35: C028 | G35: Keep | I35: =COUNTIF('Open AR'!$I$5:$I$139,A35)+COUNTIF('Open AP'!$I$5:$I$194,A35) -> 3 | J35: =COUNTIF('Xero Contacts'!$B$5:$B$453,F35) -> 1
A36: C029 | B36: Customer | C36: Docklands Fashion Pty Ltd | D36: 75905936987 | E36: Docklands Fashion Pty Ltd | F36: C029 | G36: Keep | I36: =COUNTIF('Open AR'!$I$5:$I$139,A36)+COUNTIF('Open AP'!$I$5:$I$194,A36) -> 3 | J36: =COUNTIF('Xero Contacts'!$B$5:$B$453,F36) -> 1
A37: S167 | B37: Supplier | C37: Docklands Fashion Pty Ltd | D37: 75905936987 | E37: Docklands Fashion Pty Ltd | F37: C029 | G37: Merge into C029 | H37: Same ABN | I37: =COUNTIF('Open AR'!$I$5:$I$139,A37)+COUNTIF('Open AP'!$I$5:$I$194,A37) -> 0 | J37: =COUNTIF('Xero Contacts'!$B$5:$B$453,F37) -> 1
A38: C030 | B38: Customer | C38: Wattle Builders Pty Ltd | D38: 50982680996 | E38: Wattle Builders Pty Ltd | F38: C030 | G38: Keep | I38: =COUNTIF('Open AR'!$I$5:$I$139,A38)+COUNTIF('Open AP'!$I$5:$I$194,A38) -> 0 | J38: =COUNTIF('Xero Contacts'!$B$5:$B$453,F38) -> 1
A39: C031 | B39: Customer | C39: Collins Constructions Pty Ltd | D39: 30292442564 | E39: Collins Constructions Pty Ltd | F39: C031 | G39: Keep | I39: =COUNTIF('Open AR'!$I$5:$I$139,A39)+COUNTIF('Open AP'!$I$5:$I$194,A39) -> 0 | J39: =COUNTIF('Xero Contacts'!$B$5:$B$453,F39) -> 1
A40: C032 | B40: Customer | C40: Malvern Accountants | D40: 17593989127 | E40: Malvern Accountants | F40: C032 | G40: Keep | I40: =COUNTIF('Open AR'!$I$5:$I$139,A40)+COUNTIF('Open AP'!$I$5:$I$194,A40) -> 0 | J40: =COUNTIF('Xero Contacts'!$B$5:$B$453,F40) -> 1
A41: C033 | B41: Customer | C41: Docklands Architects Pty Ltd | D41: 55156940504 | E41: Docklands Architects Pty Ltd | F41: C033 | G41: Keep | I41: =COUNTIF('Open AR'!$I$5:$I$139,A41)+COUNTIF('Open AP'!$I$5:$I$194,A41) -> 2 | J41: =COUNTIF('Xero Contacts'!$B$5:$B$453,F41) -> 1
...

Sheet Xero Contacts
A1: Xero contacts import (one per business)
A2: Work sample: realistic data, built to show how I approach this work.
A4: Contact name | B4: Account number | C4: Email | D4: Phone | E4: ABN | F4: Roles | G4: Status | H4: QBO records
A5: Lygon Constructions Pty Ltd | B5: C001 | C5: accounts@lygonconstructions.com.au | D5: 03 9692 7421 | F5: Customer | G5: Active | H5: =COUNTIF('Contacts'!$F$5:$F$484,B5) -> 1
A6: Southern Architects Pty Ltd | B6: C002 | C6: accounts@southernarchitects.com.au | D6: 03 9360 7401 | E6: 12027635394 | F6: Customer | G6: Active | H6: =COUNTIF('Contacts'!$F$5:$F$484,B6) -> 1
A7: Yarra Constructions Pty Ltd | B7: C003 | C7: accounts@yarraconstructions.com.au | D7: 03 9926 9999 | F7: Customer | G7: Active | H7: =COUNTIF('Contacts'!$F$5:$F$484,B7) -> 1
A8: Lygon Salon Pty Ltd | B8: C004 | C8: accounts@lygonsalon.com.au | D8: 03 9948 9092 | E8: 25680769711 | F8: Customer | G8: Active | H8: =COUNTIF('Contacts'!$F$5:$F$484,B8) -> 1
A9: Clifton Optometrists | B9: C005 | C9: accounts@cliftonoptometrists.com.au | D9: 03 9562 3181 | E9: 84077093798 | F9: Customer | G9: Active | H9: =COUNTIF('Contacts'!$F$5:$F$484,B9) -> 1
A10: Glenferrie Salon Pty Ltd | B10: C006 | C10: accounts@glenferriesalon.com.au | D10: 03 9479 6189 | E10: 31333095371 | F10: Customer | G10: Archive after import | H10: =COUNTIF('Contacts'!$F$5:$F$484,B10) -> 1
A11: Ironbark Pharmacy | B11: C007 | C11: accounts@ironbarkpharmacy.com.au | D11: 03 9577 8990 | F11: Customer | G11: Active | H11: =COUNTIF('Contacts'!$F$5:$F$484,B11) -> 2
A12: Hawthorn Homewares Pty Ltd | B12: C008 | C12: accounts@hawthornhomewares.com.au | D12: 03 9623 7158 | E12: 82357073380 | F12: Customer | G12: Active | H12: =COUNTIF('Contacts'!$F$5:$F$484,B12) -> 1
A13: Smith St Pharmacy Pty Ltd | B13: C009 | C13: accounts@smithstpharmacy.com.au | D13: 03 9746 9928 | E13: 27843238559 | F13: Customer | G13: Active | H13: =COUNTIF('Contacts'!$F$5:$F$484,B13) -> 1
A14: Yarra Kitchen & Bath Pty Ltd | B14: C010 | C14: accounts@yarrakitchenandbath.com.au | D14: 03 9932 7583 | E14: 21772229285 | F14: Customer | G14: Active | H14: =COUNTIF('Contacts'!$F$5:$F$484,B14) -> 1
A15: Brunswick Bookshop Pty Ltd | B15: C011 | C15: accounts@brunswickbookshop.com.au | D15: 03 9254 9891 | E15: 33096039827 | F15: Customer | G15: Active | H15: =COUNTIF('Contacts'!$F$5:$F$484,B15) -> 1
A16: High St Bakery Group | B16: C012 | C16: accounts@highstbakery.com.au | D16: 03 9844 6337 | E16: 57448635350 | F16: Customer + Supplier | G16: Active | H16: =COUNTIF('Contacts'!$F$5:$F$484,B16) -> 2
A17: Fitzroy Bookshop | B17: C013 | C17: accounts@fitzroybookshop.com.au | D17: 03 9462 5353 | E17: 16972855922 | F17: Customer | G17: Active | H17: =COUNTIF('Contacts'!$F$5:$F$484,B17) -> 1
A18: Laneway Florist Pty Ltd | B18: C014 | C18: accounts@lanewayflorist.com.au | D18: 03 9711 8818 | E18: 92192547321 | F18: Customer | G18: Active | H18: =COUNTIF('Contacts'!$F$5:$F$484,B18) -> 1
A19: Wattle Gallery Pty Ltd | B19: C015 | C19: accounts@wattlegallery.com.au | D19: 03 9236 3435 | E19: 54608424603 | F19: Customer | G19: Active | H19: =COUNTIF('Contacts'!$F$5:$F$484,B19) -> 1
A20: Camberwell Eyewear Pty Ltd | B20: C016 | C20: accounts@camberwelleyewear.com.au | D20: 03 9284 1895 | E20: 20792192190 | F20: Customer | G20: Active | H20: =COUNTIF('Contacts'!$F$5:$F$484,B20) -> 1
A21: Smith St Medical Centre Group | B21: C017 | C21: accounts@smithstmedicalcentre.com.au | D21: 03 9946 1801 | E21: 39588330517 | F21: Customer | G21: Active | H21: =COUNTIF('Contacts'!$F$5:$F$484,B21) -> 1
A22: Bluestone Kitchen & Bath Pty Ltd | B22: C018 | C22: accounts@bluestonekitchenandbath.com.au | D22: 03 9745 2104 | E22: 52676345774 | F22: Customer | G22: Active | H22: =COUNTIF('Contacts'!$F$5:$F$484,B22) -> 2
A23: Southern Kitchen & Bath Pty Ltd | B23: C019 | C23: accounts@southernkitchenandbath.com.au | D23: 03 9720 4482 | E23: 15621441710 | F23: Customer | G23: Active | H23: =COUNTIF('Contacts'!$F$5:$F$484,B23) -> 1
A24: Glenferrie Interiors Group | B24: C020 | C24: accounts@glenferrieinteriors.com.au | D24: 03 9596 3233 | F24: Customer | G24: Active | H24: =COUNTIF('Contacts'!$F$5:$F$484,B24) -> 1
A25: Ironbark Interiors Group | B25: C021 | C25: accounts@ironbarkinteriors.com.au | D25: 03 9925 2412 | E25: 54271148152 | F25: Customer | G25: Active | H25: =COUNTIF('Contacts'!$F$5:$F$484,B25) -> 1
A26: Prahran Vet Clinic Pty Ltd | B26: C022 | C26: accounts@prahranvetclinic.com.au | D26: 03 9265 4282 | E26: 97824206537 | F26: Customer | G26: Active | H26: =COUNTIF('Contacts'!$F$5:$F$484,B26) -> 1
A27: Ironbark Real Estate Group | B27: C023 | C27: accounts@ironbarkrealestate.com.au | D27: 03 9413 5164 | E27: 85995059198 | F27: Customer | G27: Active | H27: =COUNTIF('Contacts'!$F$5:$F$484,B27) -> 1
A28: Malvern Homewares Pty Ltd | B28: C024 | C28: accounts@malvernhomewares.com.au | D28: 03 9539 1475 | F28: Customer | G28: Active | H28: =COUNTIF('Contacts'!$F$5:$F$484,B28) -> 1
A29: Collins Bookshop Pty Ltd | B29: C025 | C29: accounts@collinsbookshop.com.au | D29: 03 9920 8627 | F29: Customer | G29: Active | H29: =COUNTIF('Contacts'!$F$5:$F$484,B29) -> 1
A30: Laneway Cafe Pty Ltd | B30: C026 | C30: accounts@lanewaycafe.com.au | D30: 03 9611 5478 | E30: 71418685340 | F30: Customer | G30: Active | H30: =COUNTIF('Contacts'!$F$5:$F$484,B30) -> 1
A31: Docklands Physio Group | B31: C027 | C31: accounts@docklandsphysio.com.au | D31: 03 9463 6593 | E31: 98326001173 | F31: Customer | G31: Active | H31: =COUNTIF('Contacts'!$F$5:$F$484,B31) -> 1
A32: Bluestone Legal Pty Ltd | B32: C028 | C32: accounts@bluestonelegal.com.au | D32: 03 9431 3433 | F32: Customer | G32: Active | H32: =COUNTIF('Contacts'!$F$5:$F$484,B32) -> 1
A33: Docklands Fashion Pty Ltd | B33: C029 | C33: accounts@docklandsfashion.com.au | D33: 03 9451 9007 | E33: 75905936987 | F33: Customer + Supplier | G33: Active | H33: =COUNTIF('Contacts'!$F$5:$F$484,B33) -> 2
A34: Wattle Builders Pty Ltd | B34: C030 | C34: accounts@wattlebuilders.com.au | D34: 03 9823 8923 | E34: 50982680996 | F34: Customer | G34: Active | H34: =COUNTIF('Contacts'!$F$5:$F$484,B34) -> 1
A35: Collins Constructions Pty Ltd | B35: C031 | C35: accounts@collinsconstructions.com.au | D35: 03 9533 1411 | E35: 30292442564 | F35: Customer | G35: Active | H35: =COUNTIF('Contacts'!$F$5:$F$484,B35) -> 1
A36: Malvern Accountants | B36: C032 | C36: accounts@malvernaccountants.com.au | D36: 03 9885 7555 | E36: 17593989127 | F36: Customer | G36: Active | H36: =COUNTIF('Contacts'!$F$5:$F$484,B36) -> 1
A37: Docklands Architects Pty Ltd | B37: C033 | C37: accounts@docklandsarchitects.com.au | D37: 03 9833 2538 | E37: 55156940504 | F37: Customer + Supplier | G37: Active | H37: =COUNTIF('Contacts'!$F$5:$F$484,B37) -> 2
A38: Brunswick Wine Bar Pty Ltd | B38: C034 | C38: accounts@brunswickwinebar.com.au | D38: 03 9305 9277 | E38: 90138298055 | F38: Customer | G38: Active | H38: =COUNTIF('Contacts'!$F$5:$F$484,B38) -> 1
A39: Brunswick Architects Pty Ltd | B39: C035 | C39: accounts@brunswickarchitects.com.au | D39: 03 9688 9160 | F39: Customer | G39: Active | H39: =COUNTIF('Contacts'!$F$5:$F$484,B39) -> 1
